BEGIN:VCALENDAR
VERSION:2.0
PRODID:-//HWGHV Zweigverein Fuldatal - ECPv6.15.12.2//NONSGML v1.0//EN
CALSCALE:GREGORIAN
METHOD:PUBLISH
X-ORIGINAL-URL:https://hwghv.de/fuldatal
X-WR-CALDESC:Veranstaltungen für HWGHV Zweigverein Fuldatal
REFRESH-INTERVAL;VALUE=DURATION:PT1H
X-Robots-Tag:noindex
X-PUBLISHED-TTL:PT1H
BEGIN:VTIMEZONE
TZID:Europe/Berlin
BEGIN:DAYLIGHT
TZOFFSETFROM:+0100
TZOFFSETTO:+0200
TZNAME:CEST
DTSTART:20240331T010000
END:DAYLIGHT
BEGIN:STANDARD
TZOFFSETFROM:+0200
TZOFFSETTO:+0100
TZNAME:CET
DTSTART:20241027T010000
END:STANDARD
BEGIN:DAYLIGHT
TZOFFSETFROM:+0100
TZOFFSETTO:+0200
TZNAME:CEST
DTSTART:20250330T010000
END:DAYLIGHT
BEGIN:STANDARD
TZOFFSETFROM:+0200
TZOFFSETTO:+0100
TZNAME:CET
DTSTART:20251026T010000
END:STANDARD
BEGIN:DAYLIGHT
TZOFFSETFROM:+0100
TZOFFSETTO:+0200
TZNAME:CEST
DTSTART:20260329T010000
END:DAYLIGHT
BEGIN:STANDARD
TZOFFSETFROM:+0200
TZOFFSETTO:+0100
TZNAME:CET
DTSTART:20261025T010000
END:STANDARD
END:VTIMEZONE
BEGIN:VEVENT
DTSTART;TZID=Europe/Berlin:20250817T080000
DTEND;TZID=Europe/Berlin:20250817T170000
DTSTAMP:20260426T061330
CREATED:20250714T122347Z
LAST-MODIFIED:20250714T122726Z
UID:10000079-1755417600-1755450000@hwghv.de
SUMMARY:Sonntagstour auf dem Habichtswaldsteig: Etappe Naumburg - Bad Emstal-Sand
DESCRIPTION:Einladung zur Sonntagswanderung am 17.08.2025 von Naumburg nach Bad Emstal-Sand.\nWir haben wieder 2 Touren an diesem Sonntag im Angebot: A-Tour ca. 14 km auf dem Habichtswaldsteig über die „Himmelsschaukel“ an der Warte mit weiter Aussicht sowie nahe der Bahnstrecke des Hessencourier. Höchster Punkt:390 m.  B-Tour: ca. 10\,5 km meist auf dem Märchenlandweg durch viel schattigen Wald mit interessanten Entdeckungen/ Aussichten. Höchster Punkt: 404 m.\nZu beiden Touren sind eine gute Kondition/Ausdauer\, festes Schuhwerk\, wetterangepasste Kleidung und reichlich Getränke notwendig. Wanderstöcke empfohlen.\nNeben Trinkpausen sind jeweils 2 x Frühstückspausen eingeplant! D.h. reichlich Proviant ins Gepäck da unsere Endeinkehr im Eiscafé Sharell De L amour sein wird.\nTreffpunkt:  8:00 Uhr Endstation Ihringshäuser Str.\nAbfahrt: 8:14 Uhr Linie 3 bis Bahnhof Wilhelmshöhe 8:42 Uhr auf Steig G an\, weiter 9:01 Uhr Abfahrt Bus 53 auf Steig B über Martinhagen nach Naumburg/Bahnhof. Dort Ankunft: 9:51 Uhr.\nEndeinkehr: Eiscafé Sharell de L amour. Es sind keine Vorbestellungen für Getränke/ Süßspeisen notwendig.\nRückfahrt: Stündlich ab 15:08 Uhr ab Bad Emstal/Rathaus; Rückkunft ab 16:29 Uhr stündlich Endstation Ihringshäuser Str.\nAnmeldung: Fam. Eberhardt\, Tel. 0561-811427 oder S. Schikowski\, Tel. 05607-1410\nbis zum 15. August 2025. Bitte angeben: eigenes Ticket vorhanden oder Ticket nötig.\nGäste sind uns immer herzlich willkommen. Sie haben jedoch keine versicherungstechnischen Ansprüche an den HWGHV.\nKomm mit\, jeder Schritt hält fit!
URL:https://hwghv.de/fuldatal/event/1059/
LOCATION:Naumburg
CATEGORIES:Habichtswaldsteig
ATTACH;FMTTYPE=image/jpeg:https://hwghv.de/fuldatal/wp-content/uploads/sites/19/2025/07/IMG-20250714-WA0000.jpg
END:VEVENT
END:VCALENDAR