BEGIN:VCALENDAR
VERSION:2.0
PRODID:-//HWGHV Zweigverein Fuldatal - ECPv6.15.12.2//NONSGML v1.0//EN
CALSCALE:GREGORIAN
METHOD:PUBLISH
X-ORIGINAL-URL:https://hwghv.de/fuldatal
X-WR-CALDESC:Veranstaltungen für HWGHV Zweigverein Fuldatal
REFRESH-INTERVAL;VALUE=DURATION:PT1H
X-Robots-Tag:noindex
X-PUBLISHED-TTL:PT1H
BEGIN:VTIMEZONE
TZID:Europe/Berlin
BEGIN:DAYLIGHT
TZOFFSETFROM:+0100
TZOFFSETTO:+0200
TZNAME:CEST
DTSTART:20240331T010000
END:DAYLIGHT
BEGIN:STANDARD
TZOFFSETFROM:+0200
TZOFFSETTO:+0100
TZNAME:CET
DTSTART:20241027T010000
END:STANDARD
BEGIN:DAYLIGHT
TZOFFSETFROM:+0100
TZOFFSETTO:+0200
TZNAME:CEST
DTSTART:20250330T010000
END:DAYLIGHT
BEGIN:STANDARD
TZOFFSETFROM:+0200
TZOFFSETTO:+0100
TZNAME:CET
DTSTART:20251026T010000
END:STANDARD
BEGIN:DAYLIGHT
TZOFFSETFROM:+0100
TZOFFSETTO:+0200
TZNAME:CEST
DTSTART:20260329T010000
END:DAYLIGHT
BEGIN:STANDARD
TZOFFSETFROM:+0200
TZOFFSETTO:+0100
TZNAME:CET
DTSTART:20261025T010000
END:STANDARD
END:VTIMEZONE
BEGIN:VEVENT
DTSTART;TZID=Europe/Berlin:20250914T070000
DTEND;TZID=Europe/Berlin:20250914T170000
DTSTAMP:20260426T030733
CREATED:20250809T132315Z
LAST-MODIFIED:20250904T112237Z
UID:10000082-1757833200-1757869200@hwghv.de
SUMMARY:Entdeckertour mit dem Kasseler Verein: Fabelweg-Goldborn/Knüll
DESCRIPTION:Einladung zur Sonntagswanderung\, am 14. September 2025 mit Sonderbus. \nDie Entdeckertour findet in Kooperation mit dem ZV Kassel des HWGV\n(Gesamtverein) e.V. statt und führt uns in die Mitte des Knüllgebirges. Nördlich von Oberaula befindet sich der Fabelweg „Goldborn“. Zwei Touren haben wir vorgesehen. Die Tour 1 wandert auf dem ca.8 km langen Fabelweg und die Tour 2 nimmt u.a. den Borgmannsweg und hat dann eine Länge von ca. 12 km.  In der Beschreibung zum Fa-belweg heißt es: Auf gemütlichen Wiesen- und Waldwegen führt diese Tour über Hö-henzüge und durch sanfte Täler. Mit deutlich weniger als 1 km Asphalt haben beide Tou-ren Premiumqualität. Außerdem rankt sich um den Goldborn eine Sage von einem Sonn-tagskind und einer Jungfrau??\nTag: Sonntag\, 14. September 2025 \nTreffpunkt: Straßenbahn Endstation Ihringshäuser Straße um 7:30 Uhr \nAbfahrt: 7:14 Uhr Linie 3\, Ankunft: Willhelmshöher Bahnhof 7:42 Uhr \nAbfahrt: Sonderbus gegen 7:45 Uhr \nWegstrecke Tour 1: Oberaula – Fabelweg – Oberaula ca. 8 km\nWegstrecke Tour 2: Oberaula – Borgmannsweg – Kahlsmühle – Fabelweg – Oberaula   ca.12 km \nWanderprofil: leicht bis mittelschwer (160 bzw. 300 Höhenmeter) \nWanderstart: 09.30 Uhr in Oberaula am Wanderparkplatz Osterteich\nEndpunkt: Oberaula\nRückfahrt: 15.30 Uhr mit Sonderbus; Ankunft in Kassel ca. 17.00 Uhr\nDauer: ca. 9 Stunden bis zur Rückkehr\nVerpflegung: Unterwegs Rucksackverpflegung \nEndeinkehr:  in Oberaula- Parkhotel zum Stern \nKosten: 20\,00€ für Vorwanderung und Busfahrt \nMit dem HWGV Kassel e.V. wurde vereinbart das ZV Fuldatal bis zu 20 der möglichen 49 Plätze im Bus zu reservieren. \nAnmeldung: Andrea Schmidt Tel. 0561/ 31745547 oder andschmi374@gmail.com bis zum 10. Sept. 2025\, 17:00 Uhr wegen der Einkehr und begrenzter Plätze im Bus.
URL:https://hwghv.de/fuldatal/event/entdeckertour-mit-dem-kasseler-verein-fabelweg-goldborn-knuell/
LOCATION:Fabelweg-Goldborn
CATEGORIES:Region Knüll
ATTACH;FMTTYPE=image/jpeg:https://hwghv.de/fuldatal/wp-content/uploads/sites/19/2023/12/xAdobeStock_302075752-scaled.jpg
END:VEVENT
END:VCALENDAR