BEGIN:VCALENDAR
VERSION:2.0
PRODID:-//HWGHV Zweigverein Fuldatal - ECPv6.15.12.2//NONSGML v1.0//EN
CALSCALE:GREGORIAN
METHOD:PUBLISH
X-WR-CALNAME:HWGHV Zweigverein Fuldatal
X-ORIGINAL-URL:https://hwghv.de/fuldatal
X-WR-CALDESC:Veranstaltungen für HWGHV Zweigverein Fuldatal
REFRESH-INTERVAL;VALUE=DURATION:PT1H
X-Robots-Tag:noindex
X-PUBLISHED-TTL:PT1H
BEGIN:VTIMEZONE
TZID:Europe/Berlin
BEGIN:DAYLIGHT
TZOFFSETFROM:+0100
TZOFFSETTO:+0200
TZNAME:CEST
DTSTART:20250330T010000
END:DAYLIGHT
BEGIN:STANDARD
TZOFFSETFROM:+0200
TZOFFSETTO:+0100
TZNAME:CET
DTSTART:20251026T010000
END:STANDARD
BEGIN:DAYLIGHT
TZOFFSETFROM:+0100
TZOFFSETTO:+0200
TZNAME:CEST
DTSTART:20260329T010000
END:DAYLIGHT
BEGIN:STANDARD
TZOFFSETFROM:+0200
TZOFFSETTO:+0100
TZNAME:CET
DTSTART:20261025T010000
END:STANDARD
BEGIN:DAYLIGHT
TZOFFSETFROM:+0100
TZOFFSETTO:+0200
TZNAME:CEST
DTSTART:20270328T010000
END:DAYLIGHT
BEGIN:STANDARD
TZOFFSETFROM:+0200
TZOFFSETTO:+0100
TZNAME:CET
DTSTART:20271031T010000
END:STANDARD
END:VTIMEZONE
BEGIN:VEVENT
DTSTART;TZID=Europe/Berlin:20260320T180000
DTEND;TZID=Europe/Berlin:20260320T200000
DTSTAMP:20260423T184624
CREATED:20260227T115413Z
LAST-MODIFIED:20260227T124527Z
UID:10000103-1774029600-1774036800@hwghv.de
SUMMARY:Jahreshauptversammlung
DESCRIPTION:Einladung zur Jahreshauptversammlung \nGemäß § 8 der Satzung des Hessisch-Waldeckischen Gebirgs- und Heimatvereins\, Zweigverein Fuldatal e. V. laden wir hiermit zu unserer Jahreshauptversammlung herzlich ein. Sie findet statt am Freitag\, dem 20. März 2026\, um 18.00 Uhr im „Haus Schönewald“\, Fuldatal/Simmershausen. \nTagesordnung: \n1.	Begrüßung; Feststellung der Beschlussfähigkeit\n2.	Totengedenken\n3.	Ehrungen\n4.	Bericht der Vorsitzenden\n5.	Bericht der Fachwarte\nWanderwartin\, Kulturwartin\, Kassenwartin\, Wartin für Spaziergänger\,\nWart für Statistik\n6.	 Bericht der Kassenprüfer-in und Entlastung des Vorstandes\n7.	 Beschluss über den Etat 2026 \nPause \n8.	 Wahlen\n9.	 Deutsche Wandertage und Wandertreffen\n10.	 Anträge\n11.	 Verschiedenes    \nAnträge zur Ergänzung oder Änderung der Tagesordnung müssen gem. § 8 der Vereinssatzung dem Vorstand eine Woche vor der Mitgliederversammlung vorliegen. Wir würden uns über eine rege Beteiligung unserer Mitglieder sehr freuen. \nIch bitte um Rückmeldung bis zum 16. März 2026 auch wegen der Brötchenbestellung. \nMit freundlichen Grüßen \nChrista Groß\nVorsitzende
URL:https://hwghv.de/fuldatal/event/jahreshauptversammlung-2/
LOCATION:Fuldatal
CATEGORIES:Fuldatal-Simmershausen
ATTACH;FMTTYPE=image/jpeg:https://hwghv.de/fuldatal/wp-content/uploads/sites/19/2023/12/xAdobeStock_173894645.jpg
END:VEVENT
END:VCALENDAR