BEGIN:VCALENDAR
VERSION:2.0
PRODID:-//HWGHV Zweigverein Fuldatal - ECPv6.15.12.2//NONSGML v1.0//EN
CALSCALE:GREGORIAN
METHOD:PUBLISH
X-ORIGINAL-URL:https://hwghv.de/fuldatal
X-WR-CALDESC:Veranstaltungen für HWGHV Zweigverein Fuldatal
REFRESH-INTERVAL;VALUE=DURATION:PT1H
X-Robots-Tag:noindex
X-PUBLISHED-TTL:PT1H
BEGIN:VTIMEZONE
TZID:Europe/Berlin
BEGIN:DAYLIGHT
TZOFFSETFROM:+0100
TZOFFSETTO:+0200
TZNAME:CEST
DTSTART:20250330T010000
END:DAYLIGHT
BEGIN:STANDARD
TZOFFSETFROM:+0200
TZOFFSETTO:+0100
TZNAME:CET
DTSTART:20251026T010000
END:STANDARD
BEGIN:DAYLIGHT
TZOFFSETFROM:+0100
TZOFFSETTO:+0200
TZNAME:CEST
DTSTART:20260329T010000
END:DAYLIGHT
BEGIN:STANDARD
TZOFFSETFROM:+0200
TZOFFSETTO:+0100
TZNAME:CET
DTSTART:20261025T010000
END:STANDARD
BEGIN:DAYLIGHT
TZOFFSETFROM:+0100
TZOFFSETTO:+0200
TZNAME:CEST
DTSTART:20270328T010000
END:DAYLIGHT
BEGIN:STANDARD
TZOFFSETFROM:+0200
TZOFFSETTO:+0100
TZNAME:CET
DTSTART:20271031T010000
END:STANDARD
END:VTIMEZONE
BEGIN:VEVENT
DTSTART;TZID=Europe/Berlin:20260322T073000
DTEND;TZID=Europe/Berlin:20260322T163000
DTSTAMP:20260423T200807
CREATED:20260305T105057Z
LAST-MODIFIED:20260305T105057Z
UID:10000104-1774164600-1774197000@hwghv.de
SUMMARY:Sonntagswanderung auf dem Gudensberger Panoramaweg
DESCRIPTION:Herzliche Einladung zur Wanderung auf dem Gudensberger Panoramaweg am Sonntag\, den 22. März 2026.  \nDie Gesamtstrecke um fast 21 km\, sie verbindet die Fachwerk- Altstadt mit den umliegenden Basaltkuppen\, führt zu den schönsten Plätzen und bietet fantastische Fernsichten.\nDie A- Gruppe geführt von S. Schikowski und M. Eberhardt erwandert die Ostrunde mit ca. 13 km. Die B- Gruppe geführt von A. Schmidt und G. Lauff wandern auf der Westrunde mit ca. 9 km. Beide Gruppen Starten am Töpfermarkt\, für die A Wanderer geht es gleich mit einem kurzen steilen Anstieg zur Obernburg.  Dafür wird die Gruppe mit einer wunderbaren Aussicht belohnt. Vom Lamsberg geht es weiter zum Odenberg mit seinen Frühlingsblühern.\nDie B- Gruppe wandert vom Töpfermarkt zum Nacken hier ragt ein Basaltklotz aus der Anhöhe. Dieser Gesteinsbrocken zeugt von der Aktivität mächtiger Vulkane\, die diese Landschaft in der Urzeit geformt haben. \nTreffpunkt: 7:30 Uhr Endstation der Straßenbahn Ihringshäuserstraße.\nAbfahrt:   7:44 Uhr mit der Tram 3\nAnkunft:  8:03 Uhr Rathaus\nAbfahrt:   8:20 Uhr Rathaus/ Fünffensterstraße Bus 500\nAnkunft:  8:47 Uhr Gudensberg Rathaus. \nEndeinkehr:  Hotel „Am Stadtpark“ \nWanderstöcke nicht vergessen.   \nAnmeldung: bis zum Donnerstag\, den 19.März 2026 bis 17:00 Uhr\nAndrea Schmidt Tel. 0561/31745547 oder Mail: andschmi374@gmail.com \nGäste sind wie immer herzlich willkommen.\nSie zahlen einen Gastbeitrag von 3\,00 €. Es besteht jedoch keine versicherungsrechtlichen Ansprüche an den HWGHV Fuldatal!\n Eure Wanderführerinnen und Wanderführer \nKommt mit\, jeder Schritt hält fit
URL:https://hwghv.de/fuldatal/event/sonntagswanderung-auf-dem-gudensberger-panoramaweg/
LOCATION:Gudensberg
ATTACH;FMTTYPE=image/jpeg:https://hwghv.de/fuldatal/wp-content/uploads/sites/19/2024/05/IMG_20230425_113643-scaled.jpg
END:VEVENT
END:VCALENDAR