BEGIN:VCALENDAR
VERSION:2.0
PRODID:-//HWGHV Zweigverein Fuldatal - ECPv6.15.12.2//NONSGML v1.0//EN
CALSCALE:GREGORIAN
METHOD:PUBLISH
X-ORIGINAL-URL:https://hwghv.de/fuldatal
X-WR-CALDESC:Veranstaltungen für HWGHV Zweigverein Fuldatal
REFRESH-INTERVAL;VALUE=DURATION:PT1H
X-Robots-Tag:noindex
X-PUBLISHED-TTL:PT1H
BEGIN:VTIMEZONE
TZID:Europe/Berlin
BEGIN:DAYLIGHT
TZOFFSETFROM:+0100
TZOFFSETTO:+0200
TZNAME:CEST
DTSTART:20250330T010000
END:DAYLIGHT
BEGIN:STANDARD
TZOFFSETFROM:+0200
TZOFFSETTO:+0100
TZNAME:CET
DTSTART:20251026T010000
END:STANDARD
BEGIN:DAYLIGHT
TZOFFSETFROM:+0100
TZOFFSETTO:+0200
TZNAME:CEST
DTSTART:20260329T010000
END:DAYLIGHT
BEGIN:STANDARD
TZOFFSETFROM:+0200
TZOFFSETTO:+0100
TZNAME:CET
DTSTART:20261025T010000
END:STANDARD
BEGIN:DAYLIGHT
TZOFFSETFROM:+0100
TZOFFSETTO:+0200
TZNAME:CEST
DTSTART:20270328T010000
END:DAYLIGHT
BEGIN:STANDARD
TZOFFSETFROM:+0200
TZOFFSETTO:+0100
TZNAME:CET
DTSTART:20271031T010000
END:STANDARD
END:VTIMEZONE
BEGIN:VEVENT
DTSTART;TZID=Europe/Berlin:20260118T100000
DTEND;TZID=Europe/Berlin:20260118T143000
DTSTAMP:20260423T200900
CREATED:20260102T172509Z
LAST-MODIFIED:20260102T172509Z
UID:10000098-1768730400-1768746600@hwghv.de
SUMMARY:Erste Wanderung 2026
DESCRIPTION:Einladung zur ersten Wanderung im Jahr 2026 \nDer Wanderverein HWGHV – Zweigverein Fuldatal lädt zur ersten Wanderung im Jahr 2026 am 18. Januar 2026 herzlich ein. \nTreffpunkt:  10:00 Uhr\, Sportplatz Grebenstraße 30 in Fuldatal Ihringshausen \nAuf dieser ca. 8 km Rundwanderung wollen wir euch einige Wege zeigen\, die mancher noch nicht gegangen ist. Lasst euch überraschen und startet mit uns ins Jahr 2026\nAuch in diesem Jahr sind Gäste herzlich willkommen.\nSie zahlen einen Gastbeitrag von 3\,00 €. Es besteht jedoch kein versicherungstechnischer Anspruch an den HWGHV. \nEndeinkehr: Clubheim „Zur Flanke“ Sportplatz“ Grebenstraße 30\nEmpfehlung: Feste Schuhe und Wanderstöcke. \nAnmeldung: bis zum Donnerstag\, den 15.01. bis 17:00 Uhr\nA. Schmidt Tel. 0561 – 31745547 oder andschmi374@gmail.com\nG. Lauff     Tel. 0561 – 81686479 oder Gerhard.Lauff@t-online.de \nFrisch auf\, eure Wanderführer\n„Komm mit\, jeder Schritt hält fit“
URL:https://hwghv.de/fuldatal/event/erste-wanderung-2026/
LOCATION:Fuldatal-Ihringhausen\, Fuldatal-Ihringshausen\, Hessen\, 34233\, Deutschland
CATEGORIES:Winterwanderung
ATTACH;FMTTYPE=image/jpeg:https://hwghv.de/fuldatal/wp-content/uploads/sites/19/2025/09/IMG-20250105-WA0003.jpg
END:VEVENT
BEGIN:VEVENT
DTSTART;TZID=Europe/Berlin:20260127T093000
DTEND;TZID=Europe/Berlin:20260127T153000
DTSTAMP:20260423T200900
CREATED:20260116T105132Z
LAST-MODIFIED:20260116T105132Z
UID:10000100-1769506200-1769527800@hwghv.de
SUMMARY:Seniorenwanderung auf dem Alpenpfad am Dörnberg
DESCRIPTION:Einladung zur Seniorenwanderung \nLiebe Wanderfreundinnen und Wanderfreunde\,\nam Dienstag\, den 27. Januar 2026 findet unsere nächste Wanderung am Dörnberg (Alpenpfad) statt. Wir wandern eine Strecke von ca. 6 km. \nTreffpunkt: 09:30 Uhr Fuldatal Rathaus (Ihringshausen) \nStart der Wanderung: Parkplatz am Dörnberg um 10:00 Uhr \nEndeinkehr: Gasthaus am Seerosenteich in Calden \nDie Hin.- und Rückfahrt wird in Fahrgemeinschaften erfolgen. Für die Wanderung wird angemessene Kleidung und Wanderschuhe empfohlen.   \nWanderführer: Hedy Ruh und Christa Groß \nWir bitten um Anmeldung bis zum 24. Januar 2026 unter der Tel. Nr. 0561 – 819793\, oder Handy Nr. 017653109465 \nGäste sind willkommen! Sie haben jedoch keine versicherungstechnischen\nAnsprüche an den HWGHV Fuldatal.
URL:https://hwghv.de/fuldatal/event/seniorenwanderung-auf-dem-alpenpfad-am-doernberg/
LOCATION:Hoher Dörnberg
CATEGORIES:Hoher Dörnberg
ATTACH;FMTTYPE=image/jpeg:https://hwghv.de/fuldatal/wp-content/uploads/sites/19/2023/12/xAdobeStock_298972120.jpg
END:VEVENT
END:VCALENDAR