BEGIN:VCALENDAR
VERSION:2.0
PRODID:-//HWGHV Zweigverein Fuldatal - ECPv6.15.12.2//NONSGML v1.0//EN
CALSCALE:GREGORIAN
METHOD:PUBLISH
X-ORIGINAL-URL:https://hwghv.de/fuldatal
X-WR-CALDESC:Veranstaltungen für HWGHV Zweigverein Fuldatal
REFRESH-INTERVAL;VALUE=DURATION:PT1H
X-Robots-Tag:noindex
X-PUBLISHED-TTL:PT1H
BEGIN:VTIMEZONE
TZID:Europe/Berlin
BEGIN:DAYLIGHT
TZOFFSETFROM:+0100
TZOFFSETTO:+0200
TZNAME:CEST
DTSTART:20250330T010000
END:DAYLIGHT
BEGIN:STANDARD
TZOFFSETFROM:+0200
TZOFFSETTO:+0100
TZNAME:CET
DTSTART:20251026T010000
END:STANDARD
BEGIN:DAYLIGHT
TZOFFSETFROM:+0100
TZOFFSETTO:+0200
TZNAME:CEST
DTSTART:20260329T010000
END:DAYLIGHT
BEGIN:STANDARD
TZOFFSETFROM:+0200
TZOFFSETTO:+0100
TZNAME:CET
DTSTART:20261025T010000
END:STANDARD
BEGIN:DAYLIGHT
TZOFFSETFROM:+0100
TZOFFSETTO:+0200
TZNAME:CEST
DTSTART:20270328T010000
END:DAYLIGHT
BEGIN:STANDARD
TZOFFSETFROM:+0200
TZOFFSETTO:+0100
TZNAME:CET
DTSTART:20271031T010000
END:STANDARD
END:VTIMEZONE
BEGIN:VEVENT
DTSTART;TZID=Europe/Berlin:20260215T080000
DTEND;TZID=Europe/Berlin:20260215T163000
DTSTAMP:20260423T184230
CREATED:20260102T173714Z
LAST-MODIFIED:20260202T112206Z
UID:10000099-1771142400-1771173000@hwghv.de
SUMMARY:Auf dem Pilgerpfad bei Gottbüren am 15.02.2026
DESCRIPTION:Herzliche Einladung zur Wanderung auf Gottsbürener Pilgerwegen am Sonntag\, den 15. Februar 2026.  \nZwei Streckenlängen sind im Angebot:  A-Gruppe ca. 15 km mit Start am Tierpark Sababurg und B-Gruppe ca. 12 km mit Start am Urwald Sababurg. Beide Gruppen wandern auf befestigten Wegen und kreuzen sich in Gottsbüren an der Pilgerkirche zu der wir jeweils eine Besichtigung planen. Wir erfahren geschichtliches das zur Begründung der Pilgerstätte im 14. Jahrhundert führte und in der damaligen Zeit „europaweit“ bekannt wurde. Wir erleben zudem den heutigen Zustand des Ortes nach den Unwetterschäden in 2024.  \nTreffpunkt: 8:00 Uhr Rathaus Fuldatal-Ihringshausen. Wir bilden Fahrgemeinschaften zum Bahnhof Obervellmar. \nAbfahrt: 8:40 Uhr RT1 Bhf. Obervellmar. Ankunft: 8:58 Uhr Bhf. Hofgeismar. Abfahrt: 9:09 Uhr Bus 192 Hofgeismar Bhf. Brücke.\nAnkunft: 9:28 Uhr Urwald Sababurg – Start Gruppe B\nAnkunft: 9:30 Uhr Tierpark Sababurg – Start Gruppe A \nEndeinkehr: Gasthaus zum Tiergarten \nRucksackverpflegung\, Wanderstöcke und wetter- sowie jahreszeitlich angepasste Kleidung sind empfohlen.   \nRückfahrt: ab 15:27 Uhr stündlich vom Tierpark Bus 192 über HOG nach Obervellmar. \nAnmeldung: bis zum Donnerstag\, den 12. Februar 2026 bei\nWdf. Ellen Eberhardt\, Tel. 0561-811427 und Susanne Schikowski\, Tel. 05607-1410. Bitte angeben ob eine Fahrkarte benötigt wird oder eine individuelle Anfahrt zum Start der Wanderung erfolgt.                                  \nGäste sind wie immer herzlich willkommen.\nSie zahlen einen Gastbeitrag von 3\,00 €. Es besteht jedoch keine versicherungsrechtlichen Ansprüche an den HWGHV Fuldatal! \nKommt mit\, jeder Schritt hält fit!
URL:https://hwghv.de/fuldatal/event/auf-dem-pilgerpfad-bei-gottbueren/
LOCATION:Reinhardswald- Gottsbüren
CATEGORIES:Pilgerwege
ATTACH;FMTTYPE=image/jpeg:https://hwghv.de/fuldatal/wp-content/uploads/sites/19/2023/12/xAdobeStock_84619294.jpg
END:VEVENT
BEGIN:VEVENT
DTSTART;TZID=Europe/Berlin:20260224T090000
DTEND;TZID=Europe/Berlin:20260224T150000
DTSTAMP:20260423T184230
CREATED:20260202T114520Z
LAST-MODIFIED:20260210T160135Z
UID:10000102-1771923600-1771945200@hwghv.de
SUMMARY:Seniorenwanderung: Rund um den Leiselsee am Dienstsg\, 24. Februar `26
DESCRIPTION:Achtung Änderrung!  \nEinladung zur Seniorenwanderung am Dienstag\, dem 24.02.2026   \nLiebe Wanderfreundinnen und Wanderfreunde\,\nam 24. Februar 2026 findet unsere nächst Seniorenwanderung statt. Wir wandern Rund um den Leiselsee in Baunatal.\nEs ist eine Rundwanderung\, die Wanderstecke ist ca. 6 km.\nDie Endeinkehr ist in Baunatal vorgesehen. (Griech. Santorini)\nTreffen: Um 09.20 Uhr „Rathaus – Fuldatal- Ihringshausen“.\nWir fahren in Fahrgemeinschaften zum Parkplatz in Baunatal\, gegen über den Baunataler Werkstätten.\nTreffen dort ab 10.00 Uhr!\nEs wird festes Schuhwerk empfohlen.\nGäste sind herzlich willkommen. Sie zahlen einen Gastbeitrag von 3 €.\nEs bestehen keine versicherungsrechtlichen Ansprüche an den HWGHV.\nKommt mit jeder Schritt hält fit.\nWanderführerinnen: Helga Malkomes und Christa Groß\nDie Anmeldung ist bis zum 22.02.2026 erforderlich.\nTel. Christa Groß 0561/819793 oder 017653109465\nE-Mail: christa.hajo.gross@t-online.de
URL:https://hwghv.de/fuldatal/event/seniorenwanderung-deisel-carlsbahn-deisel-am-dienstsg-24-februar-26/
LOCATION:Baunatal
ATTACH;FMTTYPE=image/jpeg:https://hwghv.de/fuldatal/wp-content/uploads/sites/19/2023/12/xAdobeStock_607718676.jpg
END:VEVENT
END:VCALENDAR