BEGIN:VCALENDAR
VERSION:2.0
PRODID:-//HWGHV Zweigverein Fuldatal - ECPv6.15.12.2//NONSGML v1.0//EN
CALSCALE:GREGORIAN
METHOD:PUBLISH
X-ORIGINAL-URL:https://hwghv.de/fuldatal
X-WR-CALDESC:Veranstaltungen für HWGHV Zweigverein Fuldatal
REFRESH-INTERVAL;VALUE=DURATION:PT1H
X-Robots-Tag:noindex
X-PUBLISHED-TTL:PT1H
BEGIN:VTIMEZONE
TZID:Europe/Berlin
BEGIN:DAYLIGHT
TZOFFSETFROM:+0100
TZOFFSETTO:+0200
TZNAME:CEST
DTSTART:20250330T010000
END:DAYLIGHT
BEGIN:STANDARD
TZOFFSETFROM:+0200
TZOFFSETTO:+0100
TZNAME:CET
DTSTART:20251026T010000
END:STANDARD
BEGIN:DAYLIGHT
TZOFFSETFROM:+0100
TZOFFSETTO:+0200
TZNAME:CEST
DTSTART:20260329T010000
END:DAYLIGHT
BEGIN:STANDARD
TZOFFSETFROM:+0200
TZOFFSETTO:+0100
TZNAME:CET
DTSTART:20261025T010000
END:STANDARD
BEGIN:DAYLIGHT
TZOFFSETFROM:+0100
TZOFFSETTO:+0200
TZNAME:CEST
DTSTART:20270328T010000
END:DAYLIGHT
BEGIN:STANDARD
TZOFFSETFROM:+0200
TZOFFSETTO:+0100
TZNAME:CET
DTSTART:20271031T010000
END:STANDARD
END:VTIMEZONE
BEGIN:VEVENT
DTSTART;TZID=Europe/Berlin:20260610T080000
DTEND;TZID=Europe/Berlin:20260610T143000
DTSTAMP:20260423T184748
CREATED:20260407T150300Z
LAST-MODIFIED:20260407T150300Z
UID:10000119-1781078400-1781101800@hwghv.de
SUMMARY:Naturkundliche Wanderung mit dem Stadtimker von Kassel am 10. Juni `26
DESCRIPTION:B.Schönfeld plant zur besten Bienen-Ertrag-Zeit im Jahr eine Info-Wanderung mit dem Stadt-Imker. Die Informationen werden uns staunen lassen.\nAngaben zu Treffpunkt und Zeit erfolgen zu gegebener Zeit.
URL:https://hwghv.de/fuldatal/event/naturkundliche-wanderung-mit-dem-stadtimker-von-kassel-am-10-juni-26/
LOCATION:Kassel
CATEGORIES:Kassel-Mitte
ATTACH;FMTTYPE=image/jpeg:https://hwghv.de/fuldatal/wp-content/uploads/sites/19/2023/12/xAdobeStock_117803460.jpg
END:VEVENT
BEGIN:VEVENT
DTSTART;TZID=Europe/Berlin:20260614T080000
DTEND;TZID=Europe/Berlin:20260614T170000
DTSTAMP:20260423T184748
CREATED:20260407T150929Z
LAST-MODIFIED:20260407T150958Z
UID:10000120-1781424000-1781456400@hwghv.de
SUMMARY:Entdeckertour mit HWGV KS auf dem Naturpfad Leine-Werra
DESCRIPTION:Lassen wir uns überraschen welche Erlebnisse A.Schmidt und H.Schramm servieren werden ….
URL:https://hwghv.de/fuldatal/event/entdeckertour-mit-hwgv-ks-auf-dem-naturpfad-leine-werra/
LOCATION:Eichsfeld
CATEGORIES:Eichsfeld
ATTACH;FMTTYPE=image/jpeg:https://hwghv.de/fuldatal/wp-content/uploads/sites/19/2023/12/xAdobeStock_479786331.jpg
END:VEVENT
BEGIN:VEVENT
DTSTART;TZID=Europe/Berlin:20260618T080000
DTEND;TZID=Europe/Berlin:20260618T170000
DTSTAMP:20260423T184748
CREATED:20260407T151911Z
LAST-MODIFIED:20260407T151911Z
UID:10000121-1781769600-1781802000@hwghv.de
SUMMARY:Spaziergänger - Busfahrt am Donnerstag\, 18. Juni 2026
DESCRIPTION:Diese beliebte Busfahrt liegt zur Planung in den erfahrenen Händen von K.Endmann. Gäste sind wie immer herzlich willkommen.
URL:https://hwghv.de/fuldatal/event/spaziergaenger-busfahrt-am-donnerstag-18-juni-2026/
ATTACH;FMTTYPE=image/jpeg:https://hwghv.de/fuldatal/wp-content/uploads/sites/19/2025/07/Schmetterlinge.jpg
END:VEVENT
BEGIN:VEVENT
DTSTART;TZID=Europe/Berlin:20260630T080000
DTEND;TZID=Europe/Berlin:20260630T170000
DTSTAMP:20260423T184748
CREATED:20260407T152432Z
LAST-MODIFIED:20260407T152432Z
UID:10000122-1782806400-1782838800@hwghv.de
SUMMARY:Seniorenwanderung nach Zierenberg
DESCRIPTION:Ziel der Wanderung ist die Bärenbergquelle bei Zierenberg. C.Groß und H.Malkomes werden sie für euch ausarbeiten.
URL:https://hwghv.de/fuldatal/event/seniorenwanderung-nach-zierenberg/
LOCATION:Zierenberg
CATEGORIES:Zierenberg
ATTACH;FMTTYPE=image/jpeg:https://hwghv.de/fuldatal/wp-content/uploads/sites/19/2023/12/xAdobeStock_291489786.jpg
END:VEVENT
END:VCALENDAR