BEGIN:VCALENDAR
VERSION:2.0
PRODID:-//HWGHV Zweigverein Fuldatal - ECPv6.15.12.2//NONSGML v1.0//EN
CALSCALE:GREGORIAN
METHOD:PUBLISH
X-ORIGINAL-URL:https://hwghv.de/fuldatal
X-WR-CALDESC:Veranstaltungen für HWGHV Zweigverein Fuldatal
REFRESH-INTERVAL;VALUE=DURATION:PT1H
X-Robots-Tag:noindex
X-PUBLISHED-TTL:PT1H
BEGIN:VTIMEZONE
TZID:Europe/Berlin
BEGIN:DAYLIGHT
TZOFFSETFROM:+0100
TZOFFSETTO:+0200
TZNAME:CEST
DTSTART:20230326T010000
END:DAYLIGHT
BEGIN:STANDARD
TZOFFSETFROM:+0200
TZOFFSETTO:+0100
TZNAME:CET
DTSTART:20231029T010000
END:STANDARD
BEGIN:DAYLIGHT
TZOFFSETFROM:+0100
TZOFFSETTO:+0200
TZNAME:CEST
DTSTART:20240331T010000
END:DAYLIGHT
BEGIN:STANDARD
TZOFFSETFROM:+0200
TZOFFSETTO:+0100
TZNAME:CET
DTSTART:20241027T010000
END:STANDARD
BEGIN:DAYLIGHT
TZOFFSETFROM:+0100
TZOFFSETTO:+0200
TZNAME:CEST
DTSTART:20250330T010000
END:DAYLIGHT
BEGIN:STANDARD
TZOFFSETFROM:+0200
TZOFFSETTO:+0100
TZNAME:CET
DTSTART:20251026T010000
END:STANDARD
BEGIN:DAYLIGHT
TZOFFSETFROM:+0100
TZOFFSETTO:+0200
TZNAME:CEST
DTSTART:20260329T010000
END:DAYLIGHT
BEGIN:STANDARD
TZOFFSETFROM:+0200
TZOFFSETTO:+0100
TZNAME:CET
DTSTART:20261025T010000
END:STANDARD
END:VTIMEZONE
BEGIN:VEVENT
DTSTART;TZID=Europe/Berlin:20241208T103000
DTEND;TZID=Europe/Berlin:20241208T180000
DTSTAMP:20260425T122821
CREATED:20241028T124956Z
LAST-MODIFIED:20241028T124956Z
UID:10000048-1733653800-1733680800@hwghv.de
SUMMARY:Adventsfahrt zum Kloster Dalheim
DESCRIPTION:  \nAdventsfahrt zum Kloster Dalheim \n  \nAm Sonntag\, den 08. Dezember 2024 laden wir ganz herzlich zu unserer Adventsfahrt zum Kloster Dalheim ein. \n  \nDas mittelalterliche Frauenkloster in Nord-Rein-Westfahlen\, Augustiner-Chorherrenstift\, später preußischer Gutshof beherbergt heute Deutschlands einzigartiges Museum „Die Stiftung Kloster Dalheim“. \n  \nEs gibt viel zu entdecken: Bau-\, Buch- und Gartenkunst und den Klosterladen. \n  \nAbfahrt:        10:50 Uhr Simmershausen Haus Schönewald \n11:00 Uhr Ihringshausen/Rathaus \n  \nLeistungen: Fahrt im Reisebus\, Eintritt und Führung im Kloster \nGemeinsames Kaffeetrinken – Kaffee/Tee satt \nplus 1 Stück Kuchen/Torte vom Buffet \n  \nNach dem Kaffeetrinken Zeit für den weihnachtlich geschmückten Klosterhof und Klostergarten. \n  \nRückfahrt:   ca. 16:30 Uhr\, Ankunft: Ihringshausen/Simmershausen ca. 18:00 Uhr. \n  \nFahrpreis p. P. für Mitglieder: 33\,50 € \nFahrpreis p. P. für Gäste:        37\,00 € \n  \nBitte den Reisepreis: 33\,50 € bzw. 37\,00 € bis zum 25. November 2024 \nauf das Konto HWGHV Fuldatal e. V. – IBAN: DE 30 5205 0353 0228 0008 11 bei der Kasseler Sparkasse unter dem Stichwort – Dalheim – überweisen. \n  \nAnmeldung bis zum 25.11.2024 bei Elke Müller\, Handy-Nr.: 0163/3683064. \n  \nGäste sind herzlich willkommen!
URL:https://hwghv.de/fuldatal/event/adventsfahrt-zum-kloster-dalheim/
CATEGORIES:Kloster Dalheim
ATTACH;FMTTYPE=image/jpeg:https://hwghv.de/fuldatal/wp-content/uploads/sites/19/2023/12/xAdobeStock_215046672.jpg
END:VEVENT
BEGIN:VEVENT
DTSTART;TZID=Europe/Berlin:20251214T100000
DTEND;TZID=Europe/Berlin:20251214T170000
DTSTAMP:20260425T122821
CREATED:20250904T124753Z
LAST-MODIFIED:20251028T092519Z
UID:10000092-1765706400-1765731600@hwghv.de
SUMMARY:Adventsfahrt nach Fulda am Sonntag\, den 14. Dezember 2025
DESCRIPTION:Am Sonntag\, den 14. Dezember 2025 laden wir ganz herzlich zu unserer Adventsfahrt nach Fulda ein. Nach Ankunft in Fulda haben wir eine gemeinsame Domführung. Anschließend ist genügend Zeit zum Weihnachtsmarktbesuch. \nAbfahrt:	10:00 Uhr Simmershausen\, Haus Schönewald\n		10:15 Uhr Ihringshausen/Rathaus \nRückfahrt: ca. 17:00 Uhr \nKosten p. P. für Mitglieder:  32\,00 € (incl. Domführung)\nKosten p. P. für Gäste:	  35\,00 € (incl. Domführung) \nBitte den Betrag bis Freitag\, den 28. November 2025 auf das Konto HWGHV Fuldatal e. V. – IBAN: DE30 5205 0353 0228 0008 11 bei der Kasseler Sparkasse unter dem Stichwort – Fulda – überweisen. \nAnmeldung und Info. E. Müller\, Handy-Nr. 0163/3683064 \nGäste sind uns herzlich willkommen
URL:https://hwghv.de/fuldatal/event/adventsfahrt-nach-fulda-am-sonntag-den-14-dezember-2025/
LOCATION:Fulda
CATEGORIES:Osthessen
ATTACH;FMTTYPE=image/jpeg:https://hwghv.de/fuldatal/wp-content/uploads/sites/19/2023/12/xAdobeStock_215046672.jpg
END:VEVENT
END:VCALENDAR