BEGIN:VCALENDAR
VERSION:2.0
PRODID:-//HWGHV Zweigverein Fuldatal - ECPv6.15.12.2//NONSGML v1.0//EN
CALSCALE:GREGORIAN
METHOD:PUBLISH
X-ORIGINAL-URL:https://hwghv.de/fuldatal
X-WR-CALDESC:Veranstaltungen für HWGHV Zweigverein Fuldatal
REFRESH-INTERVAL;VALUE=DURATION:PT1H
X-Robots-Tag:noindex
X-PUBLISHED-TTL:PT1H
BEGIN:VTIMEZONE
TZID:Europe/Berlin
BEGIN:DAYLIGHT
TZOFFSETFROM:+0100
TZOFFSETTO:+0200
TZNAME:CEST
DTSTART:20230326T010000
END:DAYLIGHT
BEGIN:STANDARD
TZOFFSETFROM:+0200
TZOFFSETTO:+0100
TZNAME:CET
DTSTART:20231029T010000
END:STANDARD
BEGIN:DAYLIGHT
TZOFFSETFROM:+0100
TZOFFSETTO:+0200
TZNAME:CEST
DTSTART:20240331T010000
END:DAYLIGHT
BEGIN:STANDARD
TZOFFSETFROM:+0200
TZOFFSETTO:+0100
TZNAME:CET
DTSTART:20241027T010000
END:STANDARD
BEGIN:DAYLIGHT
TZOFFSETFROM:+0100
TZOFFSETTO:+0200
TZNAME:CEST
DTSTART:20250330T010000
END:DAYLIGHT
BEGIN:STANDARD
TZOFFSETFROM:+0200
TZOFFSETTO:+0100
TZNAME:CET
DTSTART:20251026T010000
END:STANDARD
BEGIN:DAYLIGHT
TZOFFSETFROM:+0100
TZOFFSETTO:+0200
TZNAME:CEST
DTSTART:20260329T010000
END:DAYLIGHT
BEGIN:STANDARD
TZOFFSETFROM:+0200
TZOFFSETTO:+0100
TZNAME:CET
DTSTART:20261025T010000
END:STANDARD
END:VTIMEZONE
BEGIN:VEVENT
DTSTART;TZID=Europe/Berlin:20251115T163000
DTEND;TZID=Europe/Berlin:20251115T230000
DTSTAMP:20260425T143555
CREATED:20250904T123317Z
LAST-MODIFIED:20251028T092703Z
UID:10000090-1763224200-1763247600@hwghv.de
SUMMARY:Hüttenabend am Samstag\, den 15. November 2025
DESCRIPTION:Die Vorbereitungen für unseren beliebten Hüttenabend sind schon in vollem Gang !!!„Einladung zum Hüttenabend“\nZu unserem diesjährigen Hüttenabend am 15. November 2025 laden wir rechtherzlich ein. Es findet im Haus Schönewald\, Fuldatal-Simmershausen statt.  \nEinlass ist um 16:30 Uhr \nAnmeldung und Essensbestellung ist bis spätestens zum 10. November 2025 bei Christa Groß\, Tel. 0561/819793 erforderlich.
URL:https://hwghv.de/fuldatal/event/huettenabend-am-samstag-den-15-november-2025/
LOCATION:Simmershausen
CATEGORIES:Region Fuldatal
ATTACH;FMTTYPE=image/jpeg:https://hwghv.de/fuldatal/wp-content/uploads/sites/19/2023/12/xAdobeStock_95232862.jpg
END:VEVENT
BEGIN:VEVENT
DTSTART;TZID=Europe/Berlin:20241109T170000
DTEND;TZID=Europe/Berlin:20241109T220000
DTSTAMP:20260425T143555
CREATED:20241002T160253Z
LAST-MODIFIED:20241002T160253Z
UID:10000045-1731171600-1731189600@hwghv.de
SUMMARY:Hüttenabend am 9. November 2024
DESCRIPTION:Einladung zum Hüttenabend am 09. November 2024 \nLiebe Wanderfreundinnen und Wanderfreunde\, wie ihr der schriftlichen Einladung entnehmen könnt ist die Teilnahme aus organisatorischen Gründen bis Ende September mit zu teilen. \nDie Anmeldung und die Wahl des Menüs bitte per E-Mail oder telefonisch an Ilse Krug:  ille.krug@gmx.de – Mobiltelefon 0151 701 20 455 \n 
URL:https://hwghv.de/fuldatal/event/huettenabend-am-9-november-2024/
LOCATION:Fuldatal-Simmershausen\, Teichstr. 8\, Fuldatal\, 34233\, Deutschland
CATEGORIES:Fuldatal-Simmershausen
ATTACH;FMTTYPE=image/jpeg:https://hwghv.de/fuldatal/wp-content/uploads/sites/19/2023/12/xAdobeStock_95232862.jpg
END:VEVENT
END:VCALENDAR