BEGIN:VCALENDAR
VERSION:2.0
PRODID:-//HWGHV Zweigverein Fuldatal - ECPv6.15.12.2//NONSGML v1.0//EN
CALSCALE:GREGORIAN
METHOD:PUBLISH
X-ORIGINAL-URL:https://hwghv.de/fuldatal
X-WR-CALDESC:Veranstaltungen für HWGHV Zweigverein Fuldatal
REFRESH-INTERVAL;VALUE=DURATION:PT1H
X-Robots-Tag:noindex
X-PUBLISHED-TTL:PT1H
BEGIN:VTIMEZONE
TZID:Europe/Berlin
BEGIN:DAYLIGHT
TZOFFSETFROM:+0100
TZOFFSETTO:+0200
TZNAME:CEST
DTSTART:20230326T010000
END:DAYLIGHT
BEGIN:STANDARD
TZOFFSETFROM:+0200
TZOFFSETTO:+0100
TZNAME:CET
DTSTART:20231029T010000
END:STANDARD
BEGIN:DAYLIGHT
TZOFFSETFROM:+0100
TZOFFSETTO:+0200
TZNAME:CEST
DTSTART:20240331T010000
END:DAYLIGHT
BEGIN:STANDARD
TZOFFSETFROM:+0200
TZOFFSETTO:+0100
TZNAME:CET
DTSTART:20241027T010000
END:STANDARD
BEGIN:DAYLIGHT
TZOFFSETFROM:+0100
TZOFFSETTO:+0200
TZNAME:CEST
DTSTART:20250330T010000
END:DAYLIGHT
BEGIN:STANDARD
TZOFFSETFROM:+0200
TZOFFSETTO:+0100
TZNAME:CET
DTSTART:20251026T010000
END:STANDARD
BEGIN:DAYLIGHT
TZOFFSETFROM:+0100
TZOFFSETTO:+0200
TZNAME:CEST
DTSTART:20260329T010000
END:DAYLIGHT
BEGIN:STANDARD
TZOFFSETFROM:+0200
TZOFFSETTO:+0100
TZNAME:CET
DTSTART:20261025T010000
END:STANDARD
END:VTIMEZONE
BEGIN:VEVENT
DTSTART;TZID=Europe/Berlin:20250427T110000
DTEND;TZID=Europe/Berlin:20250427T180000
DTSTAMP:20260426T031948
CREATED:20250105T174850Z
LAST-MODIFIED:20250410T130829Z
UID:10000059-1745751600-1745776800@hwghv.de
SUMMARY:Tour Hohes Gras fällt aus! Am "Tag der Erde".
DESCRIPTION:Tour fällt aus.\nWer diesen Termin\, 27.04.2025\, noch nicht vergeben hat: in Kassel findet der alljährliche „Tag der Erde“ statt:\nin einem Teilbereich der Wiener Straße\, von 11 – 18:00 Uhr.
URL:https://hwghv.de/fuldatal/event/wandern-mit-vereinen-sternwanderung-zum-hohen-gras/
LOCATION:Kassel
CATEGORIES:Region Kassel
ATTACH;FMTTYPE=image/jpeg:https://hwghv.de/fuldatal/wp-content/uploads/sites/19/2024/05/20240504_110800-scaled.jpg
END:VEVENT
BEGIN:VEVENT
DTSTART;TZID=Europe/Berlin:20240417T131500
DTEND;TZID=Europe/Berlin:20240417T160000
DTSTAMP:20260426T031948
CREATED:20240316T184835Z
LAST-MODIFIED:20240316T184835Z
UID:10000012-1713359700-1713369600@hwghv.de
SUMMARY:Museumsbesuch Ottoneum
DESCRIPTION:  \nEinladung zur Naturschutzveranstaltung am 17. April 2024 um 14.00 Uhr im Naturkundemuseum im Ottoneum in Kassel. \n  \nLiebe Wanderfreundinnen und Wanderfreunde\, \nam 17. April 2024 findet im Rahmen einer Naturschutzveranstaltung des HWGHV\, Zw. Fuldatal\, eine Führung durch die Sonderausstellung „Wald“ im Ottoneum in Kassel statt. Wir schauen auf den Wald im Spannungsfeld zwischen Forstwirtschaft\, Naturschutz und Klimaerwärmung. \n  \nDiese Führung dauert 60 Minuten und kostet 30 Euro\, die auf alle Teilnehmer*innen der Führung umgelegt werden. Zusätzlich fallen noch 3 Euro Museumseintritt pro Person an. \n  \nTreffpunkt: 13:15 Uhr Endstation Ihringshäuser Straße \n  \nAbfahrt: Tramlinie 6 um 13:28 Uhr bis zum Friedrichsplatz. Von dort gehen wir \nzusammen zum Ottoneum am Steinweg 2. \n  \nBitte angeben\, ob eine Fahrkarte benötigt wird. \n  \nAnmeldung: bei Bettina Schönfeldt\, Telefon: 0561-50361573\, \nbis spätestens Montag\, den 15.04.2024. \n  \nIm Anschluss an die Veranstaltung ist noch eine Einkehr im Stadtcafé in der Treppenstraße zu Kaffee und Kuchen möglich. \n  \nGäste sind herzlich willkommen. \n 
URL:https://hwghv.de/fuldatal/event/museumsbesuch-ottoneum/
CATEGORIES:Stadt Kassel
ATTACH;FMTTYPE=image/jpeg:https://hwghv.de/fuldatal/wp-content/uploads/sites/19/2023/12/xAdobeStock_302075752-scaled.jpg
END:VEVENT
END:VCALENDAR