BEGIN:VCALENDAR
VERSION:2.0
PRODID:-//HWGHV Zweigverein Fuldatal - ECPv6.15.12.2//NONSGML v1.0//EN
CALSCALE:GREGORIAN
METHOD:PUBLISH
X-ORIGINAL-URL:https://hwghv.de/fuldatal
X-WR-CALDESC:Veranstaltungen für HWGHV Zweigverein Fuldatal
REFRESH-INTERVAL;VALUE=DURATION:PT1H
X-Robots-Tag:noindex
X-PUBLISHED-TTL:PT1H
BEGIN:VTIMEZONE
TZID:Europe/Berlin
BEGIN:DAYLIGHT
TZOFFSETFROM:+0100
TZOFFSETTO:+0200
TZNAME:CEST
DTSTART:20230326T010000
END:DAYLIGHT
BEGIN:STANDARD
TZOFFSETFROM:+0200
TZOFFSETTO:+0100
TZNAME:CET
DTSTART:20231029T010000
END:STANDARD
BEGIN:DAYLIGHT
TZOFFSETFROM:+0100
TZOFFSETTO:+0200
TZNAME:CEST
DTSTART:20240331T010000
END:DAYLIGHT
BEGIN:STANDARD
TZOFFSETFROM:+0200
TZOFFSETTO:+0100
TZNAME:CET
DTSTART:20241027T010000
END:STANDARD
BEGIN:DAYLIGHT
TZOFFSETFROM:+0100
TZOFFSETTO:+0200
TZNAME:CEST
DTSTART:20250330T010000
END:DAYLIGHT
BEGIN:STANDARD
TZOFFSETFROM:+0200
TZOFFSETTO:+0100
TZNAME:CET
DTSTART:20251026T010000
END:STANDARD
BEGIN:DAYLIGHT
TZOFFSETFROM:+0100
TZOFFSETTO:+0200
TZNAME:CEST
DTSTART:20260329T010000
END:DAYLIGHT
BEGIN:STANDARD
TZOFFSETFROM:+0200
TZOFFSETTO:+0100
TZNAME:CET
DTSTART:20261025T010000
END:STANDARD
END:VTIMEZONE
BEGIN:VEVENT
DTSTART;TZID=Europe/Berlin:20250119T090000
DTEND;TZID=Europe/Berlin:20250119T150000
DTSTAMP:20260426T015018
CREATED:20250105T163048Z
LAST-MODIFIED:20250107T115449Z
UID:10000050-1737277200-1737298800@hwghv.de
SUMMARY:Neujahrswanderung - Rund um Fuldatal
DESCRIPTION:  \nEinladung zur ersten Wanderung im Jahr 2025. \n  \nAm 19.01. 2025 um 9:00 Uhr\, treffen wir uns am Rathaus Ihringshausen. \nAuf der ca. 12 km Rundwanderung wollen wir euch einige Wege zeigen\, die mancher noch nicht gegangen ist. Lasst euch überraschen und startet mit uns ins Jahr 2025 \nAuch in diesem Jahr sind Gäste herzlich willkommen. \n  \nEndeinkehr: Ristorante „DA Toni“ Am Rathaus 6 \n  \nEmpfehlung: Feste Schuhe und Wanderstöcke. \n  \nAnmeldung: bis zum Donnerstag\, den 16.Januar 2025\, 17:00 Uhr \n\nSchmidt Tel. 0561-31745547\nSchikowski Tel. 05607/1410\n\n  \nFrisch auf\, eure Wanderführerinnen \n„Komm mit\, jeder Schritt hält fit“ \n 
URL:https://hwghv.de/fuldatal/event/rund-um-fuldatal/
CATEGORIES:Region Fuldatal
ATTACH;FMTTYPE=image/png:https://hwghv.de/fuldatal/wp-content/uploads/sites/19/2024/02/Gemeinde-Fuldatal-Wappen-e1708595673824.png
END:VEVENT
BEGIN:VEVENT
DTSTART;TZID=Europe/Berlin:20240114T080000
DTEND;TZID=Europe/Berlin:20240114T170000
DTSTAMP:20260426T015018
CREATED:20231211T072410Z
LAST-MODIFIED:20231211T082610Z
UID:10000004-1705219200-1705251600@hwghv.de
SUMMARY:Durch das Fuldatal
DESCRIPTION:(Beschreibung folgt…)
URL:https://hwghv.de/fuldatal/event/durch-das-fuldatal/
LOCATION:Fuldatal-Simmershausen\, Teichstr. 8\, Fuldatal\, 34233\, Deutschland
CATEGORIES:Region Fuldatal
END:VEVENT
END:VCALENDAR