BEGIN:VCALENDAR
VERSION:2.0
PRODID:-//HWGHV Zweigverein Fuldatal - ECPv6.15.12.2//NONSGML v1.0//EN
CALSCALE:GREGORIAN
METHOD:PUBLISH
X-WR-CALNAME:HWGHV Zweigverein Fuldatal
X-ORIGINAL-URL:https://hwghv.de/fuldatal
X-WR-CALDESC:Veranstaltungen für HWGHV Zweigverein Fuldatal
REFRESH-INTERVAL;VALUE=DURATION:PT1H
X-Robots-Tag:noindex
X-PUBLISHED-TTL:PT1H
BEGIN:VTIMEZONE
TZID:Europe/Berlin
BEGIN:DAYLIGHT
TZOFFSETFROM:+0100
TZOFFSETTO:+0200
TZNAME:CEST
DTSTART:20250330T010000
END:DAYLIGHT
BEGIN:STANDARD
TZOFFSETFROM:+0200
TZOFFSETTO:+0100
TZNAME:CET
DTSTART:20251026T010000
END:STANDARD
BEGIN:DAYLIGHT
TZOFFSETFROM:+0100
TZOFFSETTO:+0200
TZNAME:CEST
DTSTART:20260329T010000
END:DAYLIGHT
BEGIN:STANDARD
TZOFFSETFROM:+0200
TZOFFSETTO:+0100
TZNAME:CET
DTSTART:20261025T010000
END:STANDARD
BEGIN:DAYLIGHT
TZOFFSETFROM:+0100
TZOFFSETTO:+0200
TZNAME:CEST
DTSTART:20270328T010000
END:DAYLIGHT
BEGIN:STANDARD
TZOFFSETFROM:+0200
TZOFFSETTO:+0100
TZNAME:CET
DTSTART:20271031T010000
END:STANDARD
END:VTIMEZONE
BEGIN:VEVENT
DTSTART;TZID=Europe/Berlin:20260509T073000
DTEND;TZID=Europe/Berlin:20260509T153000
DTSTAMP:20260423T185754
CREATED:20260407T123025Z
LAST-MODIFIED:20260407T123535Z
UID:10000115-1778311800-1778340600@hwghv.de
SUMMARY:Wandern mit Vereinen-Sternwanderung am Hohen Gras
DESCRIPTION:Einladung am Samstag\, den 09. Mai 2026 Wandern mit Vereinen;  \nSternwanderungen\, in einer Partnerschaft finden sich die Zweigvereine HWGV-Kassel\, Vellmar\, Fuldatal und Niederkaufungen des Hauptvereins HWGHV sowie die Natur-freunde zu einer gemeinsamen Wanderveranstaltung zusammen. In diesem Jahr ist die Gaststätte am Hohen Gras das Ziel für eine Schlusseinkehr. \nDie Tour 1 mit ca. 8 km beginnt am Besucherzentrum Herkules und endet am Hohen Gras. U.a. wandern wir auf dem Kassel-Steig über die Kastanienallee zum Hohen Gras\, wo die Wanderung mit einer gemeinsamen Endeinkehr der Gruppe Tour 2 endet.\nTag: Samstag\, 09.Mai 2026\nWegstrecke: Herkules – Silbersee – Kastanienallee – Hohes Gras\nStreckenlänge: 8 km\nWanderprofil: leicht \nTreffpunkt:	   8:45 Uhr Tour 1 Haltestelle Ihringshäuser Straße\nAbfahrt:	   8: 58 Uhr Line 3\nAnkunft:	   9:27 Uhr Bahnhof Wilhelmshöhe\nAbfahrt:	   9:47 Uhr Line 4\nAnkunft: 	   9:57 Uhr Druseltal\nAbfahrt:          10:04 Uhr mit Bus 22\nWanderstart:  10:20 Uhr am Besucherzentrum Herkules\nEndpunkt:       Hohes Gras\nDauer:              ca. 5 Stunden einschl. Einkehr \nEndeinkehr:     Waldgaststätte Hohes Gras \nRückfahrt: mit Bus 22 um 14:37 Uhr stündlich\, Haltestelle Hohes Gras \nBitte angeben: wer eine Fahrkarte braucht (Gruppenticket)\nKosten: die Wanderung ist kostenfrei \nWanderführerin: Andrea Schmidt \nAnmeldung und weitere Informationen per E-Mail anfragen: andschmi374@gmail.com\noder telefonisch: 0561/3174 5547 \nDie Tour 2 mit ca. 10 km der „Sternwanderungen zum Hohen Gras“ beginnt an der End-haltestelle Druseltal und endet am Hohen Gras. U.a. wandern wir auf dem Kassel-Steig über die Zeche Marie und den Hirzstein zum Hohen Gras\, wo die Wanderung mit einer gemeinsamen Endeinkehr der Gruppe Tour 1 endet.\nTag: Samstag\, 09.Mai 2026\nWegstrecke: Druseltal – Zeche Marie – Hirzstein – Hohes Gras\nWanderprofil: mittelschwer bis anspruchsvoll (380 Höhenmeter) \nTreffpunkt:	   7:40 Uhr für die Tour 2 Haltestelle Ihringshäuser Straße\nAbfahrt: 	   7:58 Uhr Line 3\nAnkunft: 	   8:27 Uhr Bahnhof Wilhelmshöhe\nAbfahrt: 	   8:47 Uhr Line 4\nAnkunft: 	    8:57 Uhr Druseltal\nWanderstart:    9:10 Uhr am Treffpunkt Druseltal\nEndpunkt:        Hohes Gras\nDauer:              ca. 6 Stunden einschl. Einkehr\nVerpflegung:    Unterwegs Rucksackverpflegung\nEndeinkehr:     Waldgaststätte Hohes Gras\nRückfahrt:        mit Bus 22 um 15.37 Uhr stündlich\, Haltestelle Hohes Gras \nBitte angeben wer eine Fahrkarte braucht (Gruppenticket)\nKosten: die Wanderung ist kostenfrei \nWanderführer: Helmut Schramm\nAnmeldung und weitere Informationen per E-Mail anfragen: helmut.schramm@hwgv-kassel.de oder telefonisch: 05609/2543 oder 0157 3748 7878 (mobil)\nund Andrea Schmidt\, Tel. 0561/31745547 oder andschmi374@gmail.com \nEs bestehen jedoch keine versicherungstechnischen Ansprüche an den HWGHV Fuldatal!
URL:https://hwghv.de/fuldatal/event/wandern-mit-vereinen-sternwanderung-am-hohen-gras/
LOCATION:Druseltal-Herkules
CATEGORIES:Habichtswald
ATTACH;FMTTYPE=image/jpeg:https://hwghv.de/fuldatal/wp-content/uploads/sites/19/2023/12/xAdobeStock_314046046.jpg
END:VEVENT
END:VCALENDAR