BEGIN:VCALENDAR
VERSION:2.0
PRODID:-//HWGHV Zweigverein Fuldatal - ECPv6.15.12.2//NONSGML v1.0//EN
CALSCALE:GREGORIAN
METHOD:PUBLISH
X-WR-CALNAME:HWGHV Zweigverein Fuldatal
X-ORIGINAL-URL:https://hwghv.de/fuldatal
X-WR-CALDESC:Veranstaltungen für HWGHV Zweigverein Fuldatal
REFRESH-INTERVAL;VALUE=DURATION:PT1H
X-Robots-Tag:noindex
X-PUBLISHED-TTL:PT1H
BEGIN:VTIMEZONE
TZID:Europe/Berlin
BEGIN:DAYLIGHT
TZOFFSETFROM:+0100
TZOFFSETTO:+0200
TZNAME:CEST
DTSTART:20230326T010000
END:DAYLIGHT
BEGIN:STANDARD
TZOFFSETFROM:+0200
TZOFFSETTO:+0100
TZNAME:CET
DTSTART:20231029T010000
END:STANDARD
BEGIN:DAYLIGHT
TZOFFSETFROM:+0100
TZOFFSETTO:+0200
TZNAME:CEST
DTSTART:20240331T010000
END:DAYLIGHT
BEGIN:STANDARD
TZOFFSETFROM:+0200
TZOFFSETTO:+0100
TZNAME:CET
DTSTART:20241027T010000
END:STANDARD
BEGIN:DAYLIGHT
TZOFFSETFROM:+0100
TZOFFSETTO:+0200
TZNAME:CEST
DTSTART:20250330T010000
END:DAYLIGHT
BEGIN:STANDARD
TZOFFSETFROM:+0200
TZOFFSETTO:+0100
TZNAME:CET
DTSTART:20251026T010000
END:STANDARD
END:VTIMEZONE
BEGIN:VEVENT
DTSTART;TZID=Europe/Berlin:20240428T090000
DTEND;TZID=Europe/Berlin:20240428T150000
DTSTAMP:20260423T202957
CREATED:20240322T123248Z
LAST-MODIFIED:20240325T131343Z
UID:10000014-1714294800-1714316400@hwghv.de
SUMMARY:"Wandern mit Vereinen vom HWGHV" Ausrichter: Zweigverein Fuldatal
DESCRIPTION:Hessisch- Waldeckischer Gebirgs- und Heimatverein Zweigverein Fuldatal e.V. \n  \nAm 28. April 2024 laden zur Sonntagswanderung unter dem Motto wandern mit Vereinen des HWGHV herzlich ein. \n  \nFür das gemeinsame Wandern verschiedener Wandervereine haben wir für das Jahr 2024 als gemeinsames Ziel die Schneeganshütte in Simmershausen ausgewählt. Auf drei Touren wollen wir mit gemeinsamer Ankunft zur Endeinkehr die genannte Hütte an wandern. \nTour 1: Wegstrecke: Vellmar – Rothwesten – Simmershausen\nStreckenlänge: ca. 8 km\nWanderprofil: leicht\nTreffpunkt: 09:45 Uhr Endhaltestelle Tram1 in Vellmar Nord\nWanderstart: ca. 10:00 Uhr am Treffpunkt\nEndpunkt: Schneeganshütte in Simmershausen\nRückfahrt: 15:11 Uhr mit Bus 40 ab Haltestelle Friedhof Simmershausen\, stündlich\nVerpflegung: Unterwegs Rucksackverpflegung\nEinkehr:  in der o.g. Hütte\nTickets: 2* KS Plus\nKosten: 3 Euro für die Hüttenmiete \nBitte anmelden bis zum 23.04.2024 \n  \nAnsprechpartner: Wolfgang Fedderke (Wanderführer)\nWeitere Informationen per E-Mail anfragen: wfedderke@aol.com \n  \nTour 2: Die Tour 2 führt vom Bahnhof in Mönchehof auf dem Kassel-Steig zunächst nach Obervellmar. Unterwegs bieten sich fantastische Aussichten vom Möncheberg und der Vellmarer Höhe. Bei Vellmar werden wir auf die Wanderer treffen\, die sich für die Tour 1 entschieden haben. Über den Breiten Stein und Jütte’s Weidberghof wandern wir gemeinsam nach Rothwesten. Hier verlassen wir den Kassel-Steig\, um die letzten zwei Kilometer bis zur Schneeganshütte zurückzulegen. \nTag: Sonntag\, 28.April 2024\nWegstrecke: Mönchehof – Kassel-Steig – Rothwesten – Simmershausen\nStreckenlänge: ca. 12 km\nWanderprofil: leicht bis mittelschwer\nTreffpunkt: 09:15 Uhr Kassel Hbf\, Vorhalle\nAbfahrt: 09:.28 Uhr mit RT1\nWanderstart: 10.00 Uhr am Bahnhof Mönchehof\nEndpunkt: Schneeganshütte in Simmershausen\nRückfahrt: 15:11 Uhr mit Bus 40 ab Haltestelle Friedhof Simmershausen\, stündlich\nVerpflegung: Unterwegs Rucksackverpflegung\nEinkehr: in der o.g. Hütte\nTickets: 2* KS Plus\nKosten: 3 Euro für die Hüttenmiete \nBitte anmelden bis zum 23.04.2024\, vorzugsweise per E-Mail. \n  \nAnsprechpartner: Stefan Buchwald (Wanderführer)\nWeitere Informationen per E-Mail anfragen: stefan.buchwald@hwgv-kassel.de\noder telefonisch: 0157 5373 4934 (mobil) \n Tour 3 des HWGHV-Fuldatal führt über die Wildbahn und Fuldahöhenweg. \nWir starten an der Tram-Endhaltestelle Ihringshäuser Straße und erreichen schnell das freie Gelände. Aufwärts zum Lohberg gibt es schöne Ausblicke Richtung Dörnberg und auf die Ortslage Ihringshausen. Vorbei an der Hasenhecke und über den Enkeberg folgen wir dem bewaldeten Höhenrücken über der Fulda\, immer wieder mit Sichtkontakt zum Fluss und das niedersächsische Spiekershausen. Vorbei an der „Märchenmühle“ und nach einer Schnellbahn-Unterquerung geht´s aufwärts zur „Wildbahn“. Der folgen wir wieder hinab bis zum „Fuldahöhenweg“ und ein kurzes Stück dem Rad- und Wanderweg. Entlang am „Drei-Namen-Bach“ biegen wir nach Simmershausen ein und kommen bald zur historischen alten Schmiede. Treppauf\, mit schönem Ausblick auf das Dorf\, haben wir den Weidenberg und den „Tanzeplatz“ geschafft. Ab hier ist es noch ein kleines Stück auf und ab bis zum Ziel „Schneeganshütte“. \nTreffpunkt: 9.00 Uhr an der Straßenbahnendstation Ihringshäuser Straße\, Tram 3 \nStart: 9.15 Uhr \nWanderprofil: 11 km mittelschwer \nEinkehr: Schneeganshütte Simmershausen gegen 13.00 Uhr. \nAnmeldung: bis zum 23. April 2024\,  18.00 Uhr \nKosten: 3 €  Hüttenmiete. \nWanderführer: \nG. Lauff  Tel. 0561-8168647;  mail: gerhard.lauff@t-online.de \nM. Eberhardt  Tel. 0561-811427;   mail: memuc.eberhardt@gmx.de \n„Komm mit\, jeder Schritt hält fit“
URL:https://hwghv.de/fuldatal/event/wandern-mit-vereinen-vom-hwghv-ueber-die-wildbahn-und-fuldahoehenweg/
LOCATION:Fuldatal-Simmershausen\, Teichstr. 8\, Fuldatal\, 34233\, Deutschland
CATEGORIES:Region Fuldatal
ATTACH;FMTTYPE=image/jpeg:https://hwghv.de/fuldatal/wp-content/uploads/sites/19/2023/12/Schneeganshuette.jpg
END:VEVENT
END:VCALENDAR