BEGIN:VCALENDAR
VERSION:2.0
PRODID:-//HWGHV Zweigverein Fuldatal - ECPv6.15.12.2//NONSGML v1.0//EN
CALSCALE:GREGORIAN
METHOD:PUBLISH
X-ORIGINAL-URL:https://hwghv.de/fuldatal
X-WR-CALDESC:Veranstaltungen für HWGHV Zweigverein Fuldatal
REFRESH-INTERVAL;VALUE=DURATION:PT1H
X-Robots-Tag:noindex
X-PUBLISHED-TTL:PT1H
BEGIN:VTIMEZONE
TZID:Europe/Berlin
BEGIN:DAYLIGHT
TZOFFSETFROM:+0100
TZOFFSETTO:+0200
TZNAME:CEST
DTSTART:20240331T010000
END:DAYLIGHT
BEGIN:STANDARD
TZOFFSETFROM:+0200
TZOFFSETTO:+0100
TZNAME:CET
DTSTART:20241027T010000
END:STANDARD
BEGIN:DAYLIGHT
TZOFFSETFROM:+0100
TZOFFSETTO:+0200
TZNAME:CEST
DTSTART:20250330T010000
END:DAYLIGHT
BEGIN:STANDARD
TZOFFSETFROM:+0200
TZOFFSETTO:+0100
TZNAME:CET
DTSTART:20251026T010000
END:STANDARD
BEGIN:DAYLIGHT
TZOFFSETFROM:+0100
TZOFFSETTO:+0200
TZNAME:CEST
DTSTART:20260329T010000
END:DAYLIGHT
BEGIN:STANDARD
TZOFFSETFROM:+0200
TZOFFSETTO:+0100
TZNAME:CET
DTSTART:20261025T010000
END:STANDARD
END:VTIMEZONE
BEGIN:VEVENT
DTSTART;TZID=Europe/Berlin:20250729T090000
DTEND;TZID=Europe/Berlin:20250729T150000
DTSTAMP:20260426T031555
CREATED:20250528T135828Z
LAST-MODIFIED:20250729T125731Z
UID:10000074-1753779600-1753801200@hwghv.de
SUMMARY:Seniorenwanderung Rundweg Simmershausen über Gut Eichengerg
DESCRIPTION:Einladung zur Seniorenwanderung am Dienstag\, dem 29. Juli 2025  \nLiebe Wanderfreundinnen und Wanderfreunde\,\nam 29. Juli 2025 wollen wir die nächste Seniorenwanderung durchführen. Es geht\nnicht von Wilhelmshausen Tilly-Schanze\, sondern wir wandern einen Rundweg ca. 6 km von Simmershausen – Reinhardswaldschule über Gut Eichenberg. \nTreffpunkt: 09.00 Uhr am Rathausparkplatz Ihringshausen \nWir fahren in Fahrgemeinschaften nach Simmershausen. Start: 9:15 Uhr \nEndeinkehr: „Zum Stübchen“ in Fuldatal-Ihringshausen\n                        Bei Beginn der Wanderung werden 3 Gerichte festgelegt. \nWanderführer:  Karl Dietrich und Hedwig Ruh \nWir bitten bis Freitag\, den 25. Juli 2025 um Anmeldung unter 0561 818650 soweit\n nicht in der Wanderliste eingetragen. \nGäste sind herzlich willkommen!\nSie haben keine versicherungstechnischen Ansprüche an den HWGHV-Fuldatal. \nFrisch auf!
URL:https://hwghv.de/fuldatal/event/seniorenwanderung-wilhelmshausen-tilly-schanze/
LOCATION:Simmershausen
CATEGORIES:Fuldatal-Simmershausen
ATTACH;FMTTYPE=image/jpeg:https://hwghv.de/fuldatal/wp-content/uploads/sites/19/2023/12/xAdobeStock_607718676.jpg
END:VEVENT
END:VCALENDAR