BEGIN:VCALENDAR
VERSION:2.0
PRODID:-//HWGHV Zweigverein Fuldatal - ECPv6.15.12.2//NONSGML v1.0//EN
CALSCALE:GREGORIAN
METHOD:PUBLISH
X-WR-CALNAME:HWGHV Zweigverein Fuldatal
X-ORIGINAL-URL:https://hwghv.de/fuldatal
X-WR-CALDESC:Veranstaltungen für HWGHV Zweigverein Fuldatal
REFRESH-INTERVAL;VALUE=DURATION:PT1H
X-Robots-Tag:noindex
X-PUBLISHED-TTL:PT1H
BEGIN:VTIMEZONE
TZID:Europe/Berlin
BEGIN:DAYLIGHT
TZOFFSETFROM:+0100
TZOFFSETTO:+0200
TZNAME:CEST
DTSTART:20240331T010000
END:DAYLIGHT
BEGIN:STANDARD
TZOFFSETFROM:+0200
TZOFFSETTO:+0100
TZNAME:CET
DTSTART:20241027T010000
END:STANDARD
BEGIN:DAYLIGHT
TZOFFSETFROM:+0100
TZOFFSETTO:+0200
TZNAME:CEST
DTSTART:20250330T010000
END:DAYLIGHT
BEGIN:STANDARD
TZOFFSETFROM:+0200
TZOFFSETTO:+0100
TZNAME:CET
DTSTART:20251026T010000
END:STANDARD
BEGIN:DAYLIGHT
TZOFFSETFROM:+0100
TZOFFSETTO:+0200
TZNAME:CEST
DTSTART:20260329T010000
END:DAYLIGHT
BEGIN:STANDARD
TZOFFSETFROM:+0200
TZOFFSETTO:+0100
TZNAME:CET
DTSTART:20261025T010000
END:STANDARD
END:VTIMEZONE
BEGIN:VEVENT
DTSTART;TZID=Europe/Berlin:20250826T090000
DTEND;TZID=Europe/Berlin:20250826T153000
DTSTAMP:20260426T013356
CREATED:20250714T125526Z
LAST-MODIFIED:20250729T125107Z
UID:10000080-1756198800-1756222200@hwghv.de
SUMMARY:Seniorenwanderung - Rundwanderung W7 Weimar
DESCRIPTION:Einladung zur Seniorenwanderung am Dienstag\, dem 26. August 2025 \nLiebe Wanderfreundinnen und Wanderfreunde\,\nam 26. August 2025 wollen wir die nächste Seniorenwanderung durchführen. Wir wandern einen Rundweg von ca. 6 km in Ahnatal-Weimar.\nBeginn der Wanderung an der Grillstation in Weimar um 09:30 Uhr \nTreffpunkt: 09:00 Uhr am Rathausparkplatz Ihringshausen \nWir fahren in Fahrgemeinschaften zur Grillstation Weimar. Start: 9:30 Uhr. \nEndeinkehr: Grillstation in Weimar \nWanderführer:  Karl Dietrich und Hedwig Ruh \nWir bitten bis Freitag\, den 22. August 2025 um Anmeldung unter 0561/818650 soweit\nnicht in der Wanderliste eingetragen. \nGäste sind herzlich willkommen!\nSie haben keine versicherungstechnischen Ansprüche an den HWGHV-Fuldatal. \nFrisch auf!
URL:https://hwghv.de/fuldatal/event/seniorenwanderung-rundwanderung-w7-weimar/
LOCATION:Ahnatal\, Ahnatal
CATEGORIES:Wanderung
ATTACH;FMTTYPE=image/jpeg:https://hwghv.de/fuldatal/wp-content/uploads/sites/19/2025/07/Schmetterlinge.jpg
END:VEVENT
END:VCALENDAR