BEGIN:VCALENDAR
VERSION:2.0
PRODID:-//HWGHV Zweigverein Fuldatal - ECPv6.15.12.2//NONSGML v1.0//EN
CALSCALE:GREGORIAN
METHOD:PUBLISH
X-ORIGINAL-URL:https://hwghv.de/fuldatal
X-WR-CALDESC:Veranstaltungen für HWGHV Zweigverein Fuldatal
REFRESH-INTERVAL;VALUE=DURATION:PT1H
X-Robots-Tag:noindex
X-PUBLISHED-TTL:PT1H
BEGIN:VTIMEZONE
TZID:Europe/Berlin
BEGIN:DAYLIGHT
TZOFFSETFROM:+0100
TZOFFSETTO:+0200
TZNAME:CEST
DTSTART:20240331T010000
END:DAYLIGHT
BEGIN:STANDARD
TZOFFSETFROM:+0200
TZOFFSETTO:+0100
TZNAME:CET
DTSTART:20241027T010000
END:STANDARD
BEGIN:DAYLIGHT
TZOFFSETFROM:+0100
TZOFFSETTO:+0200
TZNAME:CEST
DTSTART:20250330T010000
END:DAYLIGHT
BEGIN:STANDARD
TZOFFSETFROM:+0200
TZOFFSETTO:+0100
TZNAME:CET
DTSTART:20251026T010000
END:STANDARD
BEGIN:DAYLIGHT
TZOFFSETFROM:+0100
TZOFFSETTO:+0200
TZNAME:CEST
DTSTART:20260329T010000
END:DAYLIGHT
BEGIN:STANDARD
TZOFFSETFROM:+0200
TZOFFSETTO:+0100
TZNAME:CET
DTSTART:20261025T010000
END:STANDARD
END:VTIMEZONE
BEGIN:VEVENT
DTSTART;TZID=Europe/Berlin:20250924T103000
DTEND;TZID=Europe/Berlin:20250924T170000
DTSTAMP:20260425T221556
CREATED:20250904T113357Z
LAST-MODIFIED:20250904T113529Z
UID:10000085-1758709800-1758733200@hwghv.de
SUMMARY:Radtour von Ihringshausen nach Wellerode
DESCRIPTION:Radtour Ihringshausen – Wellerode \nMittwoch\, den 24. September 2025 laden wir zu einer Radtour herzlich ein. \nStart: 10:30 Uhr am Rathaus Ihringshausen \nDie Tour ist ca. 44 km lang\, kann bei Bedarf verkürzt werden. Einkehr für einen kleinen Imbiss ist eingeplant. Aus Sicherheitsgründen bitte Fahrradhelm tragen. \nAnmeldung bis 21.09.25 bei Erika Noffke\, Handy-Nr.: 01520 618 5377 oder e.noffke@gmx.net. \nGäste sind herzlich willkommen. Sie zahlen einen Gastbeitrag von 3\,00 €\nSie haben jedoch keine versicherungstechnischen Ansprüche an den HWGHV.
URL:https://hwghv.de/fuldatal/event/radtour-von-ihringshausen-nach-wellerode/
LOCATION:Söhrewald
CATEGORIES:Region Kaufunger Wald
ATTACH;FMTTYPE=image/jpeg:https://hwghv.de/fuldatal/wp-content/uploads/sites/19/2023/12/xAdobeStock_48439072.jpg
END:VEVENT
END:VCALENDAR