BEGIN:VCALENDAR
VERSION:2.0
PRODID:-//HWGHV Zweigverein Fuldatal - ECPv6.15.12.2//NONSGML v1.0//EN
CALSCALE:GREGORIAN
METHOD:PUBLISH
X-WR-CALNAME:HWGHV Zweigverein Fuldatal
X-ORIGINAL-URL:https://hwghv.de/fuldatal
X-WR-CALDESC:Veranstaltungen für HWGHV Zweigverein Fuldatal
REFRESH-INTERVAL;VALUE=DURATION:PT1H
X-Robots-Tag:noindex
X-PUBLISHED-TTL:PT1H
BEGIN:VTIMEZONE
TZID:Europe/Berlin
BEGIN:DAYLIGHT
TZOFFSETFROM:+0100
TZOFFSETTO:+0200
TZNAME:CEST
DTSTART:20240331T010000
END:DAYLIGHT
BEGIN:STANDARD
TZOFFSETFROM:+0200
TZOFFSETTO:+0100
TZNAME:CET
DTSTART:20241027T010000
END:STANDARD
BEGIN:DAYLIGHT
TZOFFSETFROM:+0100
TZOFFSETTO:+0200
TZNAME:CEST
DTSTART:20250330T010000
END:DAYLIGHT
BEGIN:STANDARD
TZOFFSETFROM:+0200
TZOFFSETTO:+0100
TZNAME:CET
DTSTART:20251026T010000
END:STANDARD
BEGIN:DAYLIGHT
TZOFFSETFROM:+0100
TZOFFSETTO:+0200
TZNAME:CEST
DTSTART:20260329T010000
END:DAYLIGHT
BEGIN:STANDARD
TZOFFSETFROM:+0200
TZOFFSETTO:+0100
TZNAME:CET
DTSTART:20261025T010000
END:STANDARD
END:VTIMEZONE
BEGIN:VEVENT
DTSTART;TZID=Europe/Berlin:20251016T110000
DTEND;TZID=Europe/Berlin:20251016T160000
DTSTAMP:20260426T013355
CREATED:20250904T114419Z
LAST-MODIFIED:20250904T115802Z
UID:10000086-1760612400-1760630400@hwghv.de
SUMMARY:Halbtagsfahrt zum Seeburger See
DESCRIPTION:„Halbtagsfahrt an den Seeburger See“\nZu einer Halbtagsfahrt an den Seeburger See lädt die Spaziergängergruppe am Donnerstag\, den 16. Oktober 2025 ganz herzlich ein.\nDer Seeburger See ist eingebettet zwischen Weserbergland\, Solling\, Harz und Ohmgebirge. Der auch „Auge des Eichsfeldes“ genannte See ist mit ca. 88 Hektar die größte natürliche Wasserfläche in Südniedersachsen. Seit 1976 sind Teilbereiche der Seefläche sowie der Uferzone des Seeburger Sees unter Naturschutz gestellt. \nDie Abfahrt ist:	11:00 Uhr am Rathaus in Ihringshausen  \nDas gemeinsame Mittagessen findet im Restaurant Graf Isang am Seeburger See statt. \nRückfahrt: ca. 15:00 Uhr. \nFahrtkosten:  	Mitglieder pro Person	20\,00 €\n               		Gäste        pro Person      24\,00 € \nBitte den Betrag in Höhe von 20\,00 € bzw. 24\,00 € bis zum 06. Oktober 2025 auf das Konto HWGHV Fuldatal e. V. –\nIBAN: DE 30 5205 0353 0228 0008 11 bei der Kasseler Sparkasse\nunter dem Stichwort – Seeburger See – überweisen. \nAnmeldungen sind bis Samstag\, den 11. Oktober 2025\, 18:00 Uhr bei Karin Endmann\, Tel.  0561/81 81 55 oder Christa Groß\, Tel. Nr. 0561/81 97 93 möglich.  \nGäste sind uns immer herzlich willkommen! Sie haben keine versicherungstechnischen Ansprüche an den HWGHV-Fuldatal. \nMit freundlichem Wandergruß „Frisch auf“ \nIhre Wanderführerinnen.
URL:https://hwghv.de/fuldatal/event/halbtagsfahrt-zum-seeburger-see/
LOCATION:Seeburger See
CATEGORIES:Südniedersachsen
END:VEVENT
BEGIN:VEVENT
DTSTART;TZID=Europe/Berlin:20251019T083000
DTEND;TZID=Europe/Berlin:20251019T153000
DTSTAMP:20260426T013355
CREATED:20250904T121444Z
LAST-MODIFIED:20250918T141701Z
UID:10000087-1760862600-1760887800@hwghv.de
SUMMARY:Rund um den Tierpark Sababurg und Spechtweg
DESCRIPTION:Einladung zur Sonntagstour im herbstlich bunten Reinhardswald am 19.10.2025.\nHat wirklich Graf Reinhard sein Land im Glücksspiel verloren jedoch durch einen Trick behalten? Beide angebotenen Touren werden uns sicher Klarheit geben:\nTour A\, ca. 9 km\, führt uns um den Tierpark Sababurg über den Urwald an Rappeiche und Kamineiche vorbei zum Ausgangspunkt zurück. Die anfängliche Steigung an der Tierparkmauer entlang lässt uns die Morgenkühle vergessen. Danach geht es moderat weiter.\nTour B\, ca. 6 km\, führt uns direkt zum Urwald über den Spechtweg mit wenig Steigungen und kleinen Abstechern zum „Schlangennest“ und Kamineiche. Was könnten uns wohl die alten Eichen und Buchen erzählen?\nFür beide Touren ist wie immer Trittsicherheit\, festes Schuhwerk und witterungsangepasste Kleidung empfohlen. Aufgrund der kurzen Strecken ist jeweils nur eine Rast eingeplant.\nTreffpunkt: 8:35 Uhr Endstation Ihringshäuser Str.\nAbfahrt: 8:48 Uhr Linie 40 bis Bahnhof Hann. Münden 9:26 Uhr an. Weiter dort mit Linie 190 um 9:40 Uhr. Ankunft: Tierpark Sababurg um 10:18 Uhr.\nEndeinkehr: Gasthaus Zum Thiergarten.\nRückfahrt: ab 15:28 stündlich über Hofgeismar mit Linie 192 – RT1 – Tram 3 – Endstation Ihringshäuser Str.\nAnmeldung: M. Eberhardt\, 0561-811427 oder S. Schikowski\, Tel. 05607-1410 bis zum 16. Okt. 2025.\nBitte angeben: eigenes Ticket vorhanden oder nötig. Gäste sind immer herzlich willkommen: sie zahlen einen Gastbeitrag von 3\,00 € – es besteht jedoch kein versicherungstechnischer Anspruch an den HWGHV.
URL:https://hwghv.de/fuldatal/event/rund-um-den-tierpark-sababurg-und-spechtweg/
LOCATION:Reinhardswald
CATEGORIES:Reinhardswald
ATTACH;FMTTYPE=image/jpeg:https://hwghv.de/fuldatal/wp-content/uploads/sites/19/2023/12/xAdobeStock_302918122.jpg
END:VEVENT
END:VCALENDAR