BEGIN:VCALENDAR
VERSION:2.0
PRODID:-//HWGHV Zweigverein Fuldatal - ECPv6.15.12.2//NONSGML v1.0//EN
CALSCALE:GREGORIAN
METHOD:PUBLISH
X-ORIGINAL-URL:https://hwghv.de/fuldatal
X-WR-CALDESC:Veranstaltungen für HWGHV Zweigverein Fuldatal
REFRESH-INTERVAL;VALUE=DURATION:PT1H
X-Robots-Tag:noindex
X-PUBLISHED-TTL:PT1H
BEGIN:VTIMEZONE
TZID:Europe/Berlin
BEGIN:DAYLIGHT
TZOFFSETFROM:+0100
TZOFFSETTO:+0200
TZNAME:CEST
DTSTART:20240331T010000
END:DAYLIGHT
BEGIN:STANDARD
TZOFFSETFROM:+0200
TZOFFSETTO:+0100
TZNAME:CET
DTSTART:20241027T010000
END:STANDARD
BEGIN:DAYLIGHT
TZOFFSETFROM:+0100
TZOFFSETTO:+0200
TZNAME:CEST
DTSTART:20250330T010000
END:DAYLIGHT
BEGIN:STANDARD
TZOFFSETFROM:+0200
TZOFFSETTO:+0100
TZNAME:CET
DTSTART:20251026T010000
END:STANDARD
BEGIN:DAYLIGHT
TZOFFSETFROM:+0100
TZOFFSETTO:+0200
TZNAME:CEST
DTSTART:20260329T010000
END:DAYLIGHT
BEGIN:STANDARD
TZOFFSETFROM:+0200
TZOFFSETTO:+0100
TZNAME:CET
DTSTART:20261025T010000
END:STANDARD
END:VTIMEZONE
BEGIN:VEVENT
DTSTART;TZID=Europe/Berlin:20251028T093000
DTEND;TZID=Europe/Berlin:20251028T150000
DTSTAMP:20260426T045121
CREATED:20251014T105929Z
LAST-MODIFIED:20251014T105929Z
UID:10000095-1761643800-1761663600@hwghv.de
SUMMARY:Seniorenwanderung ins Firnsbachtal
DESCRIPTION:Einladung zur Seniorenwanderung am 28.Oktober 2025  \nLiebe Wanderfreundinnen und Wanderfreunde\,\nam 28. Oktober 2025 findet unsere nächste herbstliche Wanderung im Firnsbachtal am Habichtswaldsteig Runde von Elgershausen statt. Die Wanderstrecke beträgt ca. 6\,5 km. \nStart der Wanderung: Wanderparkplatz Firnsbachtal \nTreffpunkt: 9:30 Uhr Fuldatal Rathaus (Ihringshausen) \nEndeinkehr: Gasthaus Goldener Löwe in Elgershausen \nDie Hin- und Rückfahrt wird in Fahrgemeinschaften erfolgen. Für die Wanderung wird angemessene Kleidung und Wanderschuhe empfohlen. \nWanderführer: Jutta Scheibel und Ruth Brostmeyer \nAnmeldungen bitte bis zum 26. Oktober 2025 unter der Tel. Nr. 0561 819790 oder per E-Mail an jutta-scheibel@gmx.de \nGäste sind uns wie immer willkommen.\nSie haben jedoch keine versicherungstechnischen Ansprüche an den HWGHV Fuldatal. \nFrisch auf! Jeder Schritt hält fit.
URL:https://hwghv.de/fuldatal/event/seniorenwanderung-ins-firnsbachtal/
LOCATION:Firnsbachtal
CATEGORIES:Habichtswaldsteig
ATTACH;FMTTYPE=image/jpeg:https://hwghv.de/fuldatal/wp-content/uploads/sites/19/2023/12/xAdobeStock_509764389.jpg
END:VEVENT
BEGIN:VEVENT
DTSTART;TZID=Europe/Berlin:20251101T090000
DTEND;TZID=Europe/Berlin:20251101T140000
DTSTAMP:20260426T045121
CREATED:20251008T203849Z
LAST-MODIFIED:20251008T203849Z
UID:10000094-1761987600-1762005600@hwghv.de
SUMMARY:Naturkundlicher Spaziergang in der Karlsaue
DESCRIPTION:Einladung zur naturkundlichen Veranstaltung am Samstag\, den\n1. November 2025. \nWir machen einen Spaziergang zu der Vielfalt heimischer und exotischer Bäume\, wie wir sie in der Kasseler Karlsaue finden und gehen u.a. den Fragen nach\, warum\, wann und wie es dazu kam\, dass in dem Park der Karlsaue so verschiedene Baumarten aus aller Welt einen neuen Lebensraum gefunden haben.\nWir werden dazu eine Führung mit Frau Eva Karner haben.\nWir treffen uns mit Frau Karner um 10.00 Uhr am Küchenpavillon in der Karlsaue (Orangerie). Wer möchte kann dort direkt hingehen. \nTreffpunkt: 9:15 Uhr Straßenbahnendstation Ihringshäuser Straße   \nAbfahrt: 9:28 Uhr Linie 3\, Ankunft: 9:46 Uhr Friedrichsplatz \nDauer der Führung: 1\,5 Stunden \nKosten der Führung: 90\,00 €\, die auf alle Teilnehmer umgelegt werden. \nEndeinkehr: Restaurant Riverside\, Auedamm \nBitte bei der Anmeldung mitteilen\, ob ein Fahrticket benötigt wird. \nAnmeldung bei: Bettina Schönfeldt\, Tel.: 0561-50361573. \nGäste sind herzlich willkommen. Sie haben keine versicherungstechnischen Ansprüche an den HWGHV-Fuldatal. Als Gäste zahlen Sie zusätzlich 3\,00 € zu den anteiligen Kosten der Führung. \nFrisch auf
URL:https://hwghv.de/fuldatal/event/naturkundlicher-spaziergang-in-der-karlsaue/
LOCATION:Kassel
CATEGORIES:Führung
ATTACH;FMTTYPE=image/jpeg:https://hwghv.de/fuldatal/wp-content/uploads/sites/19/2023/12/xAdobeStock_97183482.jpg
END:VEVENT
END:VCALENDAR