BEGIN:VCALENDAR
VERSION:2.0
PRODID:-//HWGHV Zweigverein Fuldatal - ECPv6.15.12.2//NONSGML v1.0//EN
CALSCALE:GREGORIAN
METHOD:PUBLISH
X-ORIGINAL-URL:https://hwghv.de/fuldatal
X-WR-CALDESC:Veranstaltungen für HWGHV Zweigverein Fuldatal
REFRESH-INTERVAL;VALUE=DURATION:PT1H
X-Robots-Tag:noindex
X-PUBLISHED-TTL:PT1H
BEGIN:VTIMEZONE
TZID:Europe/Berlin
BEGIN:DAYLIGHT
TZOFFSETFROM:+0100
TZOFFSETTO:+0200
TZNAME:CEST
DTSTART:20240331T010000
END:DAYLIGHT
BEGIN:STANDARD
TZOFFSETFROM:+0200
TZOFFSETTO:+0100
TZNAME:CET
DTSTART:20241027T010000
END:STANDARD
BEGIN:DAYLIGHT
TZOFFSETFROM:+0100
TZOFFSETTO:+0200
TZNAME:CEST
DTSTART:20250330T010000
END:DAYLIGHT
BEGIN:STANDARD
TZOFFSETFROM:+0200
TZOFFSETTO:+0100
TZNAME:CET
DTSTART:20251026T010000
END:STANDARD
BEGIN:DAYLIGHT
TZOFFSETFROM:+0100
TZOFFSETTO:+0200
TZNAME:CEST
DTSTART:20260329T010000
END:DAYLIGHT
BEGIN:STANDARD
TZOFFSETFROM:+0200
TZOFFSETTO:+0100
TZNAME:CET
DTSTART:20261025T010000
END:STANDARD
END:VTIMEZONE
BEGIN:VEVENT
DTSTART;TZID=Europe/Berlin:20251125T093000
DTEND;TZID=Europe/Berlin:20251125T150000
DTSTAMP:20260425T173304
CREATED:20250904T124026Z
LAST-MODIFIED:20251113T203739Z
UID:10000091-1764063000-1764082800@hwghv.de
SUMMARY:Seniorenwanderung am Dienstag\, 25. November 2025 - Karlsaue
DESCRIPTION:Einladung zur Seniorenwanderung \nLiebe Wanderfreundinnen und Wanderfreunde\,\nam Dienstag\, den 25. November 2025 findet unsere nächste Wanderung in der Aue statt. Wir wandern eine Strecke von ca. 6 km. \nTreffpunkt: 09:30 Uhr Fuldatal Rathaus (Ihringshausen) \nStart der Wanderung: Parkplatz am Riverside um 10:00 Uhr \nEndeinkehr: Gasthaus Riverside \nDie Hin.- und Rückfahrt wird in Fahrgemeinschaften erfolgen. Für die Wanderung wird angemessene Kleidung und Wanderschuhe empfohlen.   \nWanderführer: Helga Malkomes und Christa Groß \nIch bitte um Anmeldung bis zum 22. November 2025 unter der\nTel. Nr. 0561 – 819793 oder per. E-Mail: christa.hajo.gross@t-online.de \nGäste sind herzlich willkommen. Sie haben jedoch keine versicherungstechnische\nAnsprüche an den HWGHV Fuldatal.
URL:https://hwghv.de/fuldatal/event/seniorenwanderung-am-dienstag-25-november-2025/
LOCATION:Kassel-Karlsaue
CATEGORIES:Region Kassel
ATTACH;FMTTYPE=image/jpeg:https://hwghv.de/fuldatal/wp-content/uploads/sites/19/2023/12/xAdobeStock_122735809.jpg
END:VEVENT
END:VCALENDAR