BEGIN:VCALENDAR
VERSION:2.0
PRODID:-//HWGHV Zweigverein Fuldatal - ECPv6.15.12.2//NONSGML v1.0//EN
CALSCALE:GREGORIAN
METHOD:PUBLISH
X-WR-CALNAME:HWGHV Zweigverein Fuldatal
X-ORIGINAL-URL:https://hwghv.de/fuldatal
X-WR-CALDESC:Veranstaltungen für HWGHV Zweigverein Fuldatal
REFRESH-INTERVAL;VALUE=DURATION:PT1H
X-Robots-Tag:noindex
X-PUBLISHED-TTL:PT1H
BEGIN:VTIMEZONE
TZID:Europe/Berlin
BEGIN:DAYLIGHT
TZOFFSETFROM:+0100
TZOFFSETTO:+0200
TZNAME:CEST
DTSTART:20240331T010000
END:DAYLIGHT
BEGIN:STANDARD
TZOFFSETFROM:+0200
TZOFFSETTO:+0100
TZNAME:CET
DTSTART:20241027T010000
END:STANDARD
BEGIN:DAYLIGHT
TZOFFSETFROM:+0100
TZOFFSETTO:+0200
TZNAME:CEST
DTSTART:20250330T010000
END:DAYLIGHT
BEGIN:STANDARD
TZOFFSETFROM:+0200
TZOFFSETTO:+0100
TZNAME:CET
DTSTART:20251026T010000
END:STANDARD
BEGIN:DAYLIGHT
TZOFFSETFROM:+0100
TZOFFSETTO:+0200
TZNAME:CEST
DTSTART:20260329T010000
END:DAYLIGHT
BEGIN:STANDARD
TZOFFSETFROM:+0200
TZOFFSETTO:+0100
TZNAME:CET
DTSTART:20261025T010000
END:STANDARD
END:VTIMEZONE
BEGIN:VEVENT
DTSTART;TZID=Europe/Berlin:20250629T103000
DTEND;TZID=Europe/Berlin:20250629T160000
DTSTAMP:20260423T191011
CREATED:20250616T102608Z
LAST-MODIFIED:20250616T104449Z
UID:10000075-1751193000-1751212800@hwghv.de
SUMMARY:Eröffnung Habichtswaldsteig Extratour H10 und Bergfest Hohes Gras
DESCRIPTION:Eröffnung H10 und Bergfest in unserer Waldgaststätte Hohes Gras am 29. Juni 2025 von 10:30 – 16:00 Uhr \nDer Kasseler Wanderverein HWGV lädt zur Eröffnungswanderung auf der Extratour H 10 „Über den Dächern der Stadt“ ein. \nTreffpunkt: 10:30 Uhr Infoportal H 10 am Hohen Gras\, Vorstellung und Eröffnung der Extratour H10 durch die Stadt Kassel und die TAG Naturpark Habichtswald. 11:00 Uhr Wanderung auf dem H 10 (ca. 10 km). \nTeilstrecke: Hohes Gras – Sichelbach – Herkules – Neuholland – Asch – Neuholland – Am Ziegenkopf – Hohes Gras.\n14:00 Uhr Eintreffen der Wandergruppe am Hohen Gras.\nMit der neuen Extratour H10 „Über den Dächern der Stadt“ erweitert sich das Wanderangebot rund um Kassel um ein landschaftlich und kulturhistorisch besonders reizvolles Highlight. Der gesamte Rundweg führt auf 18 km unter anderem über das Herkules-Denkmal\, den Bismarckturm\, durch Neuholland und an geologisch sowie historisch bedeutsamen Orten wie der Porta lapidaria\, alten Wassergräben und Stolleneingängen vorbei. Atemberaubende Ausblicke auf Kassel und den Naturpark Habichtswald machen die Tour zu einem besonderen Erlebnis für Natur- und Wanderfreunde. \n… zum Bergfest am Hohen Gras\n11:30 Uhr Beginn des Bergfestes\n13:30 Uhr Begrüßung durch den Vorstand\n14:00 Uhr Musikalische Unterhaltung mit Penny & Major Tom\n15:00 Uhr Ehrung der ältesten Vereinsmitglieder\nca. 16:00 Uhr Ende des Programms. \nFür das leibliche Wohl sorgen das Grill- und Kuchenbuffet sowie das Angebot von einer kleinen Speisekarte.\nDer HWGV Kassel freut sich auf viele Gäste\, gute Gespräche und gemeinsame Erlebnisse in der Natur.\nIhr / Euer Vorstand und Festausschuss des Hessisch-Waldeckischen Gebirgsvereins Kassel e.V. \nWer wandern möchte:\nAnmelden bei Andrea Schmidt\, Tel. 0561/31475547 oder andschmi374@gmail.com.\nTreffpunkt: 9:00 Uhr Ihringshäuser Str. Endstation der Straßenbahn \nAbfahrt: Linie 3 um 9:14 Uhr\, ab Königsplatz 9:30 Uhr Linie 4 bis Druseltal.\nWeiter: 10:02 Uhr mit Bus 22. Ankunft: 10:13 Uhr Haltestelle Hohes Gras. \nDie Nicht – Wanderer reisen an entweder mit Fahrgemeinschaften oder mit der ÖPNV: \nAbfahrt: 11:58 Linie 3 bis Schulzentrum Brückenhof. Weiter: 12:44 Uhr mit Bus 21.
URL:https://hwghv.de/fuldatal/event/eroeffnung-habichtswaldsteig-extratour-h10/
CATEGORIES:Habichtswald
ATTACH;FMTTYPE=image/jpeg:https://hwghv.de/fuldatal/wp-content/uploads/sites/19/2023/12/xAdobeStock_479786331.jpg
END:VEVENT
END:VCALENDAR