BEGIN:VCALENDAR
VERSION:2.0
PRODID:-//HWGHV Zweigverein Fuldatal - ECPv6.15.12.2//NONSGML v1.0//EN
CALSCALE:GREGORIAN
METHOD:PUBLISH
X-WR-CALNAME:HWGHV Zweigverein Fuldatal
X-ORIGINAL-URL:https://hwghv.de/fuldatal
X-WR-CALDESC:Veranstaltungen für HWGHV Zweigverein Fuldatal
REFRESH-INTERVAL;VALUE=DURATION:PT1H
X-Robots-Tag:noindex
X-PUBLISHED-TTL:PT1H
BEGIN:VTIMEZONE
TZID:Europe/Berlin
BEGIN:DAYLIGHT
TZOFFSETFROM:+0100
TZOFFSETTO:+0200
TZNAME:CEST
DTSTART:20240331T010000
END:DAYLIGHT
BEGIN:STANDARD
TZOFFSETFROM:+0200
TZOFFSETTO:+0100
TZNAME:CET
DTSTART:20241027T010000
END:STANDARD
BEGIN:DAYLIGHT
TZOFFSETFROM:+0100
TZOFFSETTO:+0200
TZNAME:CEST
DTSTART:20250330T010000
END:DAYLIGHT
BEGIN:STANDARD
TZOFFSETFROM:+0200
TZOFFSETTO:+0100
TZNAME:CET
DTSTART:20251026T010000
END:STANDARD
BEGIN:DAYLIGHT
TZOFFSETFROM:+0100
TZOFFSETTO:+0200
TZNAME:CEST
DTSTART:20260329T010000
END:DAYLIGHT
BEGIN:STANDARD
TZOFFSETFROM:+0200
TZOFFSETTO:+0100
TZNAME:CET
DTSTART:20261025T010000
END:STANDARD
END:VTIMEZONE
BEGIN:VEVENT
DTSTART;TZID=Europe/Berlin:20250930T093000
DTEND;TZID=Europe/Berlin:20250930T153000
DTSTAMP:20260425T121826
CREATED:20250809T134003Z
LAST-MODIFIED:20250925T150107Z
UID:10000084-1759224600-1759246200@hwghv.de
SUMMARY:Seniorenwanderung in der Gemarkung Calden
DESCRIPTION:Einladung zur Seniorenwanderung am Dörnberg am 30. September 2025\nAchtung Änderung!! \nEinladung zur Seniorenwanderung am 30. September 2025 \nLiebe Wanderfreundinnen und Wanderfreunde\,\nam 30. September 2025 findet unsere nächste Seniorenwanderung in Calden am Lindenrondell statt. Wir wandern eine Strecke von ca. 6 km. \nStart der Wanderung: (Parkplatz am Lindenrondell um 10:00 Uhr) \nTreffpunkt: 09.30 Uhr Fuldatal Rathaus (Ihringshausen) \nEndeinkehr: Gasthaus Waldschwimmbad in Calden \nDie Hin.- und Rückfahrt wird in Fahrgemeinschaften erfolgen. Für die Wanderung wird angemessene Kleidung und Wanderschuhe empfohlen.   \nWanderführer: Helga Malkomes und Christa Groß \nIch bitte um Anmeldung bis zum 28. September 2025 unter der\nTelefonnummer 0561 – 819793 oder per. E-Mail: christa.hajo.gross@t-online.de \nGäste sind herzlich willkommen.\nSie haben jedoch keine versicherungstechnischen Ansprüche an den HWGHV Fuldatal!
URL:https://hwghv.de/fuldatal/event/seniorenwanderung-herbsthaeuschen-firnsbachtal/
LOCATION:Gemeinde Calden
CATEGORIES:Calden
ATTACH;FMTTYPE=image/jpeg:https://hwghv.de/fuldatal/wp-content/uploads/sites/19/2023/12/xAdobeStock_607718676.jpg
END:VEVENT
END:VCALENDAR