BEGIN:VCALENDAR
VERSION:2.0
PRODID:-//HWGHV Zweigverein Fuldatal - ECPv6.15.12.2//NONSGML v1.0//EN
CALSCALE:GREGORIAN
METHOD:PUBLISH
X-WR-CALNAME:HWGHV Zweigverein Fuldatal
X-ORIGINAL-URL:https://hwghv.de/fuldatal
X-WR-CALDESC:Veranstaltungen für HWGHV Zweigverein Fuldatal
REFRESH-INTERVAL;VALUE=DURATION:PT1H
X-Robots-Tag:noindex
X-PUBLISHED-TTL:PT1H
BEGIN:VTIMEZONE
TZID:Europe/Berlin
BEGIN:DAYLIGHT
TZOFFSETFROM:+0100
TZOFFSETTO:+0200
TZNAME:CEST
DTSTART:20250330T010000
END:DAYLIGHT
BEGIN:STANDARD
TZOFFSETFROM:+0200
TZOFFSETTO:+0100
TZNAME:CET
DTSTART:20251026T010000
END:STANDARD
BEGIN:DAYLIGHT
TZOFFSETFROM:+0100
TZOFFSETTO:+0200
TZNAME:CEST
DTSTART:20260329T010000
END:DAYLIGHT
BEGIN:STANDARD
TZOFFSETFROM:+0200
TZOFFSETTO:+0100
TZNAME:CET
DTSTART:20261025T010000
END:STANDARD
BEGIN:DAYLIGHT
TZOFFSETFROM:+0100
TZOFFSETTO:+0200
TZNAME:CEST
DTSTART:20270328T010000
END:DAYLIGHT
BEGIN:STANDARD
TZOFFSETFROM:+0200
TZOFFSETTO:+0100
TZNAME:CET
DTSTART:20271031T010000
END:STANDARD
END:VTIMEZONE
BEGIN:VEVENT
DTSTART;TZID=Europe/Berlin:20260705T120000
DTEND;TZID=Europe/Berlin:20260705T170000
DTSTAMP:20260423T170030
CREATED:20260320T152834Z
LAST-MODIFIED:20260320T152834Z
UID:10000110-1783252800-1783270800@hwghv.de
SUMMARY:Hallenberger Freilichtbühne: Das Wunder von Bern
DESCRIPTION:Fahrt zur Hallenberger Freilichtbühne\nSonntag\, den 05. Juli 2026 \nMusical „Das Wunder von Bern“ von Sönke Wortmann \nDas Musical erzählt nicht nur die legendäre Geschichte\, dass Deutschland 1954 in Bern Weltmeister wird\, sondern auch die Geschichte einer zerrissenen Familie im Nachkriegsdeutschland. Vater Richard kehrt nach 12 Jahren Gefangenschaft zurück zu seiner Familie mit dem elfjährigen Sohn. Die Familie ist sich fremd geworden\, nichts ist wie es einmal war. Der Sieg der deutschen Fußballmannschaft verändert das Lebensgefühl im ganzen Land. Auch Vater und Sohn kommen sich wieder näher\, sie finden den Weg zurück zueinander.     \nVorstellung:	15:30 Uhr (Sitzplätze überdacht) \nAbfahrt:	         12:00 Uhr Simmershausen\, Haus Schönewald\n	                  12:15 Uhr Ihringshausen/Rathaus \nGemeinsames Kaffeetrinken vor der Aufführung: 1 St. Torte\, 1 St. Blechkuchen\, Kaffee/Tee satt. \nIm Preis enthalten: Fahrt im Reisebus\, Kaffeetrinken\,\n                               Eintrittskarte 1. Rang \nKosten: 54\,00 € pro Person für Mitglieder\n    59\,00 € pro Person für Gäste \nGäste sind herzlich willkommen.\nEs bestehen jedoch keine versicherungsrechtlichen Ansprüche an den HWGHV Fuldatal!\nWir bitten den Betrag von 54\,00 € bzw. 59\,00 € bis zum 25. Juni 2026 auf das Reisekonto des\nHWGHV Fuldatal e. V. IBAN DE 30 5205 0353 0228 0008 11 bei der Kasseler Sparkasse unter dem Stichwort „Hallenberg“ zu überweisen. \nAnmeldung bei Elke Müller\, Handy-Nr. 0163 3683064
URL:https://hwghv.de/fuldatal/event/hallenberger-freilichtbuehne-das-wunder-von-bern/
LOCATION:Hallenberg
CATEGORIES:Theaterfahrt
END:VEVENT
END:VCALENDAR