BEGIN:VCALENDAR
VERSION:2.0
PRODID:-//HWGHV Zweigverein Fuldatal - ECPv6.15.12.2//NONSGML v1.0//EN
CALSCALE:GREGORIAN
METHOD:PUBLISH
X-WR-CALNAME:HWGHV Zweigverein Fuldatal
X-ORIGINAL-URL:https://hwghv.de/fuldatal
X-WR-CALDESC:Veranstaltungen für HWGHV Zweigverein Fuldatal
REFRESH-INTERVAL;VALUE=DURATION:PT1H
X-Robots-Tag:noindex
X-PUBLISHED-TTL:PT1H
BEGIN:VTIMEZONE
TZID:Europe/Berlin
BEGIN:DAYLIGHT
TZOFFSETFROM:+0100
TZOFFSETTO:+0200
TZNAME:CEST
DTSTART:20240331T010000
END:DAYLIGHT
BEGIN:STANDARD
TZOFFSETFROM:+0200
TZOFFSETTO:+0100
TZNAME:CET
DTSTART:20241027T010000
END:STANDARD
BEGIN:DAYLIGHT
TZOFFSETFROM:+0100
TZOFFSETTO:+0200
TZNAME:CEST
DTSTART:20250330T010000
END:DAYLIGHT
BEGIN:STANDARD
TZOFFSETFROM:+0200
TZOFFSETTO:+0100
TZNAME:CET
DTSTART:20251026T010000
END:STANDARD
BEGIN:DAYLIGHT
TZOFFSETFROM:+0100
TZOFFSETTO:+0200
TZNAME:CEST
DTSTART:20260329T010000
END:DAYLIGHT
BEGIN:STANDARD
TZOFFSETFROM:+0200
TZOFFSETTO:+0100
TZNAME:CET
DTSTART:20261025T010000
END:STANDARD
END:VTIMEZONE
BEGIN:VEVENT
DTSTART;TZID=Europe/Berlin:20251109T093000
DTEND;TZID=Europe/Berlin:20251109T170000
DTSTAMP:20260425T221205
CREATED:20250904T122826Z
LAST-MODIFIED:20251020T123948Z
UID:10000089-1762680600-1762707600@hwghv.de
SUMMARY:1. Etappe Stadtwanderung Kassel - Mitte\, Sonntag\, 09.11.2025
DESCRIPTION:Wir laden zu unser Sonntagswanderung am 09. November 2025 herzlich ein  \nNach KS-Ost\, KS-West\, KS-Nord und KS-Süd nun der 5. KS-Wanderung: KS-Mitte mit einer Wanderstrecke von 8 km.  \nWir starten am Bhf-Wilhelmshöhe in nord-westlicher Richtung zum Aschrottpark\, Goetheanlagen bis zum Stadthallengarten. Weiter geht es über Bebelplatz zum Wehlheider Kreuz und weiter durch Wehlheiden nach Bhf. Wilhelmshöhe zurück. Im Café-Restaurant des Bahnhofs haben wir die Möglichkeit zur Endeinkehr.  \nTreffpunkt: 09:45 Uhr Endstation Ihringshäuser Straße  \nAbfahrt: 09:58 Uhr\, Linie 3\, Ankunft: Bhf. Wilhelmshöhe 10:28 Uhr. \nBitte angeben: eigenes Ticket vorhanden oder nötig. \nEndeinkehr: Café/Restaurant Bahnhof Wilhelmshöhe \nRückfahrt: Zur jeden ½ oder vollen Stunde mit der Tram 3 \nAnmeldung: bis Donnerstag\, den 6 November 2025 bei Wanderführer Gerhard Lauff Tel. 0561-81686479 oder Hedi Ruh Tel. 0179-9332075. \nGäste sind wie immer herzlich willkommen. Sie zahlen einen Gastbeitrag von 3\,00 €. Es besteht jedoch kein versicherungstechnischer Anspruch an den HWGHV
URL:https://hwghv.de/fuldatal/event/1-etappe-stadtwanderung-kassel-mitte-sonntag-09-11-2025/
LOCATION:Kassel
CATEGORIES:Kassel-Mitte
ATTACH;FMTTYPE=image/jpeg:https://hwghv.de/fuldatal/wp-content/uploads/sites/19/2023/12/xAdobeStock_122735809.jpg
END:VEVENT
BEGIN:VEVENT
DTSTART;TZID=Europe/Berlin:20251101T090000
DTEND;TZID=Europe/Berlin:20251101T140000
DTSTAMP:20260425T221205
CREATED:20251008T203849Z
LAST-MODIFIED:20251008T203849Z
UID:10000094-1761987600-1762005600@hwghv.de
SUMMARY:Naturkundlicher Spaziergang in der Karlsaue
DESCRIPTION:Einladung zur naturkundlichen Veranstaltung am Samstag\, den\n1. November 2025. \nWir machen einen Spaziergang zu der Vielfalt heimischer und exotischer Bäume\, wie wir sie in der Kasseler Karlsaue finden und gehen u.a. den Fragen nach\, warum\, wann und wie es dazu kam\, dass in dem Park der Karlsaue so verschiedene Baumarten aus aller Welt einen neuen Lebensraum gefunden haben.\nWir werden dazu eine Führung mit Frau Eva Karner haben.\nWir treffen uns mit Frau Karner um 10.00 Uhr am Küchenpavillon in der Karlsaue (Orangerie). Wer möchte kann dort direkt hingehen. \nTreffpunkt: 9:15 Uhr Straßenbahnendstation Ihringshäuser Straße   \nAbfahrt: 9:28 Uhr Linie 3\, Ankunft: 9:46 Uhr Friedrichsplatz \nDauer der Führung: 1\,5 Stunden \nKosten der Führung: 90\,00 €\, die auf alle Teilnehmer umgelegt werden. \nEndeinkehr: Restaurant Riverside\, Auedamm \nBitte bei der Anmeldung mitteilen\, ob ein Fahrticket benötigt wird. \nAnmeldung bei: Bettina Schönfeldt\, Tel.: 0561-50361573. \nGäste sind herzlich willkommen. Sie haben keine versicherungstechnischen Ansprüche an den HWGHV-Fuldatal. Als Gäste zahlen Sie zusätzlich 3\,00 € zu den anteiligen Kosten der Führung. \nFrisch auf
URL:https://hwghv.de/fuldatal/event/naturkundlicher-spaziergang-in-der-karlsaue/
LOCATION:Kassel
CATEGORIES:Führung
ATTACH;FMTTYPE=image/jpeg:https://hwghv.de/fuldatal/wp-content/uploads/sites/19/2023/12/xAdobeStock_97183482.jpg
END:VEVENT
BEGIN:VEVENT
DTSTART;TZID=Europe/Berlin:20250921T080000
DTEND;TZID=Europe/Berlin:20250921T170000
DTSTAMP:20260425T221205
CREATED:20250714T130026Z
LAST-MODIFIED:20250825T131956Z
UID:10000081-1758441600-1758474000@hwghv.de
SUMMARY:11. Kasseler Wandertag
DESCRIPTION:11. Kassel – Wandertag am 21. September 2025 \nZum 11. Kassel‐Wandertag laden Oberbürgermeister Sven Schoeller sowie die Arbeitsgemeinschaft der Kasseler Wandervereine ein\, die schönsten Seiten der Stadt auf einer der sechs Wanderrouten durch die Grünzüge Kassel zu entdecken. Im Anschluss wird von 11.30 bis 14.30 Uhr auf dem Schulhof der Wilhelm‐Lückert‐Schule in der Gräfestraße 8 zusammen gefeiert.\nWir werden an der Route 4 teilnehmen und Starten am Königsplatz und wandern über den Vorderer Westen zum Treffpunkt aller Wanderungen an der Wilhelm- Lückert- Schule in der Gräfestraße 8.\nDort ist die Abschlussveranstaltung mit Essen und Trinken und ein Unterhaltungsprogramm für alle Teilnehmer ob Groß oder Klein für alle ist etwas dabei. \nTreffpunkt: 9:00 Uhr Straßenbahnendstation Ihringshäuser Str.   \nAbfahrt: 9:14 Uhr Linie 3\, Ankunft: 9:28 Uhr Königsplatz \nStart der Wanderung Königsplatz um 9:30 Uhr \nAnmeldung: Andrea Schmidt\, Tel. 0561/31745547 oder andschmi374@gmail.com bis Samstag\, den 20.09.2025\, 17:00 Uhr\nBitte angeben\, ob eine Fahrkarte benötigt wird.\nGäste sind bei uns immer herzlich willkommen.\nSie haben jedoch keine versicherungstechnischen Ansprüche an den HWGHV Fuldatal!\n„Komm mit\, jeder Schritt hält Fit!“\nWeitere Info: HNA und HWGV- Webseite \nBesuchen Sie auch unsere Homepage unter www.hwghv-fuldatal.de
URL:https://hwghv.de/fuldatal/event/11-kasseler-wandertag/
LOCATION:Kassel
CATEGORIES:Stadt Kassel
ATTACH;FMTTYPE=image/jpeg:https://hwghv.de/fuldatal/wp-content/uploads/sites/19/2023/12/xAdobeStock_122735809.jpg
END:VEVENT
BEGIN:VEVENT
DTSTART;TZID=Europe/Berlin:20250918T140000
DTEND;TZID=Europe/Berlin:20250918T170000
DTSTAMP:20260425T221205
CREATED:20250809T133059Z
LAST-MODIFIED:20250909T140229Z
UID:10000083-1758204000-1758214800@hwghv.de
SUMMARY:Spaziergänger-Ausflug
DESCRIPTION:„Spaziergang an der Fuldapromenade“ \nZu einem kleinen Spaziergang an der Fuldapromenade lädt die Spaziergängergruppe ganz herzlich ein.\nWir treffen uns am Donnerstag\, den 18. September 2025\, um 14:00 Uhr am Rathaus Ihringshausen. Fahrgemeinschaften sind vorgesehen\, eventuell auch ein Bus vom Nachbachschafsverein. Wir fahren zum Restaurant Café Riverside\, Kassel\, Auedamm wo wir nach unserem Spaziergang zum gemeinsamen Kaffee einkehren. \nFür Direktfahrer ca. 14:30 Uhr am Restaurant Riverside \nAnmeldung bitte bis Montag\, den 15.09.2025\, 17:00 Uhr bei Wanderführerin Karin Endmann\, Tel. 0561/81 81 55. \nGäste sind uns herzlich willkommen!! Sie haben keine versicherungstechnischen Ansprüche an den HWGHV-Fuldatal. \nMit freundlichem Wandergruß „Frisch auf“ \nIhre Wanderführerin
URL:https://hwghv.de/fuldatal/event/spaziergaenger-ausflug/
LOCATION:Kassel
CATEGORIES:Region Kassel
ATTACH;FMTTYPE=image/jpeg:https://hwghv.de/fuldatal/wp-content/uploads/sites/19/2023/12/xAdobeStock_162748693.jpg
END:VEVENT
BEGIN:VEVENT
DTSTART;TZID=Europe/Berlin:20250427T110000
DTEND;TZID=Europe/Berlin:20250427T180000
DTSTAMP:20260425T221205
CREATED:20250105T174850Z
LAST-MODIFIED:20250410T130829Z
UID:10000059-1745751600-1745776800@hwghv.de
SUMMARY:Tour Hohes Gras fällt aus! Am "Tag der Erde".
DESCRIPTION:Tour fällt aus.\nWer diesen Termin\, 27.04.2025\, noch nicht vergeben hat: in Kassel findet der alljährliche „Tag der Erde“ statt:\nin einem Teilbereich der Wiener Straße\, von 11 – 18:00 Uhr.
URL:https://hwghv.de/fuldatal/event/wandern-mit-vereinen-sternwanderung-zum-hohen-gras/
LOCATION:Kassel
CATEGORIES:Region Kassel
ATTACH;FMTTYPE=image/jpeg:https://hwghv.de/fuldatal/wp-content/uploads/sites/19/2024/05/20240504_110800-scaled.jpg
END:VEVENT
END:VCALENDAR