BEGIN:VCALENDAR
VERSION:2.0
PRODID:-//HWGHV Zweigverein Fuldatal - ECPv6.15.12.2//NONSGML v1.0//EN
CALSCALE:GREGORIAN
METHOD:PUBLISH
X-ORIGINAL-URL:https://hwghv.de/fuldatal
X-WR-CALDESC:Veranstaltungen für HWGHV Zweigverein Fuldatal
REFRESH-INTERVAL;VALUE=DURATION:PT1H
X-Robots-Tag:noindex
X-PUBLISHED-TTL:PT1H
BEGIN:VTIMEZONE
TZID:Europe/Berlin
BEGIN:DAYLIGHT
TZOFFSETFROM:+0100
TZOFFSETTO:+0200
TZNAME:CEST
DTSTART:20230326T010000
END:DAYLIGHT
BEGIN:STANDARD
TZOFFSETFROM:+0200
TZOFFSETTO:+0100
TZNAME:CET
DTSTART:20231029T010000
END:STANDARD
BEGIN:DAYLIGHT
TZOFFSETFROM:+0100
TZOFFSETTO:+0200
TZNAME:CEST
DTSTART:20240331T010000
END:DAYLIGHT
BEGIN:STANDARD
TZOFFSETFROM:+0200
TZOFFSETTO:+0100
TZNAME:CET
DTSTART:20241027T010000
END:STANDARD
BEGIN:DAYLIGHT
TZOFFSETFROM:+0100
TZOFFSETTO:+0200
TZNAME:CEST
DTSTART:20250330T010000
END:DAYLIGHT
BEGIN:STANDARD
TZOFFSETFROM:+0200
TZOFFSETTO:+0100
TZNAME:CET
DTSTART:20251026T010000
END:STANDARD
END:VTIMEZONE
BEGIN:VEVENT
DTSTART;TZID=Europe/Berlin:20241117T090000
DTEND;TZID=Europe/Berlin:20241117T153000
DTSTAMP:20260425T121951
CREATED:20241028T122454Z
LAST-MODIFIED:20241101T105048Z
UID:10000047-1731834000-1731857400@hwghv.de
SUMMARY:Tour Kassel-Ost - 2. Etappe
DESCRIPTION:  \nWir laden zu unserer Sonntagswanderung am 17. November 2024 herzlich ein. \n  \nDiesmal werden wir die 2. Etappe der Stadtwanderung „KS – Ost“ mit ca. 13 km erwandern. \n  \nStart ist im Stadtteil Forstfeld\, von da werden wir zur grünen Lunge der Bettenhäuser Bevölkerung in den Eichwald wandern. Dieser war das Jagdrevier des früheren Landgrafen Wilhelm VIII der um 1740 eine Eichen- Allee anpflanzen lies die heute noch sichtbar ist. \nBis wir zur Gartenstadt Salzmannshausen kommen\, werden wir viel über den 1145 erstmals urkundlich erwähnten Stadtteil Bettenhausen erfahren. \nWeiter geht es durch das Losse-Delta\, Hafen\, Schleuse und beenden unsere Wanderung am „Haus der Jugend“. \nVon hier aus ist es bis zu unserer Endeinkehr im Inselrestaurant Finkenherd nicht mehr weit. Je nach Teilnahme werden wir in zwei Gruppen Wandern. \n  \nTreffpunkt: 9:00 Uhr Straßenbahnendstation: Ihringshäuser Straße \n  \nAbfahrt: 9:14 Uhr\, Line 3\, Ankunft: Altmarkt 9:24 Uhr\, weiter Linie 4\, 9:34 Uhr. \nAnkunft: Haltestelle Lindenberg 9:43 Uhr \n  \nEndeinkehr: Inselrestaurant Finkenherd \n  \nBitte angeben ob eine Fahrkarte benötigt wird. \n  \nAnmeldung: bis zum Donnerstag\, den 14. November 2024\, 18:00 Uhr. \n\nSchmidt Tel. 0561- 31745547\nSchikowski Tel.05607-1410\nu. M. Eberhardt Tel.0561- 811427\n\n  \nGäste sind uns immer gern willkommen. \n  \nFrisch auf\, eure Wanderführer \n“ Komm mit\, jeder Schritt hält fit“
URL:https://hwghv.de/fuldatal/event/tour-kassel-ost-2-etappe/
LOCATION:Kassel-Ost
CATEGORIES:Stadt Kassel
ATTACH;FMTTYPE=image/jpeg:https://hwghv.de/fuldatal/wp-content/uploads/sites/19/2023/12/xAdobeStock_122735809.jpg
END:VEVENT
END:VCALENDAR