BEGIN:VCALENDAR
VERSION:2.0
PRODID:-//HWGHV Zweigverein Fuldatal - ECPv6.15.12.2//NONSGML v1.0//EN
CALSCALE:GREGORIAN
METHOD:PUBLISH
X-WR-CALNAME:HWGHV Zweigverein Fuldatal
X-ORIGINAL-URL:https://hwghv.de/fuldatal
X-WR-CALDESC:Veranstaltungen für HWGHV Zweigverein Fuldatal
REFRESH-INTERVAL;VALUE=DURATION:PT1H
X-Robots-Tag:noindex
X-PUBLISHED-TTL:PT1H
BEGIN:VTIMEZONE
TZID:Europe/Berlin
BEGIN:DAYLIGHT
TZOFFSETFROM:+0100
TZOFFSETTO:+0200
TZNAME:CEST
DTSTART:20230326T010000
END:DAYLIGHT
BEGIN:STANDARD
TZOFFSETFROM:+0200
TZOFFSETTO:+0100
TZNAME:CET
DTSTART:20231029T010000
END:STANDARD
BEGIN:DAYLIGHT
TZOFFSETFROM:+0100
TZOFFSETTO:+0200
TZNAME:CEST
DTSTART:20240331T010000
END:DAYLIGHT
BEGIN:STANDARD
TZOFFSETFROM:+0200
TZOFFSETTO:+0100
TZNAME:CET
DTSTART:20241027T010000
END:STANDARD
BEGIN:DAYLIGHT
TZOFFSETFROM:+0100
TZOFFSETTO:+0200
TZNAME:CEST
DTSTART:20250330T010000
END:DAYLIGHT
BEGIN:STANDARD
TZOFFSETFROM:+0200
TZOFFSETTO:+0100
TZNAME:CET
DTSTART:20251026T010000
END:STANDARD
BEGIN:DAYLIGHT
TZOFFSETFROM:+0100
TZOFFSETTO:+0200
TZNAME:CEST
DTSTART:20260329T010000
END:DAYLIGHT
BEGIN:STANDARD
TZOFFSETFROM:+0200
TZOFFSETTO:+0100
TZNAME:CET
DTSTART:20261025T010000
END:STANDARD
END:VTIMEZONE
BEGIN:VEVENT
DTSTART;TZID=Europe/Berlin:20250417T140000
DTEND;TZID=Europe/Berlin:20250417T170000
DTSTAMP:20260425T221307
CREATED:20250105T173246Z
LAST-MODIFIED:20250314T100042Z
UID:10000058-1744898400-1744909200@hwghv.de
SUMMARY:Erster Spaziergänger - Ausflug 2025-04-17 an der Fulda
DESCRIPTION:Wanderführerin K. Endmann startet für 2025 wieder die Angebote für die Spaziergänger am 17. April: \n„Einladung zu einem Spaziergang an der Fulda“ \nZu einem kleinen Spaziergang an der Fulda lädt die Spaziergänger – Gruppe ganz herzlich ein. \nWir treffen uns am Donnerstag\, den 17. April 2025\, um 14:00 Uhr am Rathaus Ihringshausen.\nFahrgemeinschaften sind vorgesehen\, eventuell auch ein Bus vom Nachbachschafsverein.\nWir fahren zum Landhaus Meister wo wir nach unserem Spaziergang\, zum gemeinsamen Kaffee einkehren. \nFür Direktfahrer ca. 14:15 Parkplatz Landhaus Meister. \nAnmeldung bitte bis Dienstag\, den 15. April 2025 \n17:00 Uhr bei Wanderführerin Karin Endmann Tel. 0561/818155. \nGäste sind uns herzlich willkommen!  \nMit freundlichem Wandergruß „Frisch auf“ \nIhre Wanderführerin
URL:https://hwghv.de/fuldatal/event/erster-spaziergaenger-ausflug/
LOCATION:Kassel-Wolfsanger
CATEGORIES:Kassel-Wolfsanger
ATTACH;FMTTYPE=image/jpeg:https://hwghv.de/fuldatal/wp-content/uploads/sites/19/2023/12/xAdobeStock_162748693.jpg
END:VEVENT
BEGIN:VEVENT
DTSTART;TZID=Europe/Berlin:20241013T143000
DTEND;TZID=Europe/Berlin:20241013T170000
DTSTAMP:20260425T221307
CREATED:20240905T083722Z
LAST-MODIFIED:20240905T084108Z
UID:10000040-1728829800-1728838800@hwghv.de
SUMMARY:"Ökumenischer Kirchenweg 2024"
DESCRIPTION:                        Wanderung\n               „Ökumenischer Kirchenweg 2024“\n                                 Am Sonntag\, 13. Oktober 2024 \nStart:  15.00 Uhr an der EV. Kirche in Fuldatal-Ihringshausen. Wanderung über das Wegkreuz zur Johannes Kirche in Wolfsanger. \nAnkunft: ca. 17.00 Uhr. \nAm Sonntag\, dem 13. Oktober 2024\, um 15.00 Uhr wollen wir mit Andreas Koch (dem Ideengeber) und dem HWGHV Fuldatal gemeinsam den Kirchweg erwandern. \nTreffpunkt:  14.45 Uhr an der Ev. Kirche Fuldatal-Ihringshausen \nAn der Johannes Kirche in Wolfsanger\, werden wir mit einer kleinen Erfrischung begrüßt. \nAnmeldung:  Bei Christa Groß\, Tel. 0561/81 97 93 bis Freitag\, dem 11.Okt. 2024\, 17.00 Uhr. \nGäste sind herzlich willkommen.
URL:https://hwghv.de/fuldatal/event/oekumenischer-kirchenweg-2024/
LOCATION:Kassel-Wolfsanger
CATEGORIES:Region Fuldatal
ATTACH;FMTTYPE=image/jpeg:https://hwghv.de/fuldatal/wp-content/uploads/sites/19/2023/12/xAdobeStock_215046672.jpg
END:VEVENT
BEGIN:VEVENT
DTSTART;TZID=Europe/Berlin:20240418T140000
DTEND;TZID=Europe/Berlin:20240418T170000
DTSTAMP:20260425T221307
CREATED:20240318T095014Z
LAST-MODIFIED:20240325T132546Z
UID:10000015-1713448800-1713459600@hwghv.de
SUMMARY:1. Spaziergänger - Ausflug am 18. April 2024
DESCRIPTION:Endlich wieder raus zu gemeinsamen Unternehmungen. Wir Spaziergänger treffen uns wieder zu einem Ausflug. \n„Spaziergang in Wolfsanger“ \ndie Spaziergängergruppe lädt ganz herzlich zu seinem ersten Spaziergang in Wolfsanger ein. \n  \nWir treffen uns am Donnerstag\, den 18. April 2024\, um 14:00 Uhr am Rathaus Ihringshausen. Fahrgemeinschaften sind vorgesehen\, eventuell auch ein Bus vom Nachbachschafsverein. Wir fahren zum Landhaus Meister wo wir nach unserem Spaziergang\, zum gemeinsamen Kaffee einkehren. \n  \nFür Direktfahrer ca. 14:15 Parkplatz Landhaus Meister. \n  \nAnmeldung bitte bis Dienstag\, den 16. April 2024\, 17:00 Uhr bei Wanderführerin Karin Endmann Tel. 0561/818155. \n  \nGäste sind uns herzlich willkommen!  \n  \nMit freundlichem Wandergruß „Frisch auf“ \n  \nIhre Wanderführerin \n 
URL:https://hwghv.de/fuldatal/event/1-spaziergaenger-ausflug-im-april/
LOCATION:Kassel-Wolfsanger
ATTACH;FMTTYPE=image/jpeg:https://hwghv.de/fuldatal/wp-content/uploads/sites/19/2023/12/xAdobeStock_162748693.jpg
END:VEVENT
END:VCALENDAR