BEGIN:VCALENDAR
VERSION:2.0
PRODID:-//HWGHV Zweigverein Fuldatal - ECPv6.15.12.2//NONSGML v1.0//EN
CALSCALE:GREGORIAN
METHOD:PUBLISH
X-ORIGINAL-URL:https://hwghv.de/fuldatal
X-WR-CALDESC:Veranstaltungen für HWGHV Zweigverein Fuldatal
REFRESH-INTERVAL;VALUE=DURATION:PT1H
X-Robots-Tag:noindex
X-PUBLISHED-TTL:PT1H
BEGIN:VTIMEZONE
TZID:Europe/Berlin
BEGIN:DAYLIGHT
TZOFFSETFROM:+0100
TZOFFSETTO:+0200
TZNAME:CEST
DTSTART:20230326T010000
END:DAYLIGHT
BEGIN:STANDARD
TZOFFSETFROM:+0200
TZOFFSETTO:+0100
TZNAME:CET
DTSTART:20231029T010000
END:STANDARD
BEGIN:DAYLIGHT
TZOFFSETFROM:+0100
TZOFFSETTO:+0200
TZNAME:CEST
DTSTART:20240331T010000
END:DAYLIGHT
BEGIN:STANDARD
TZOFFSETFROM:+0200
TZOFFSETTO:+0100
TZNAME:CET
DTSTART:20241027T010000
END:STANDARD
BEGIN:DAYLIGHT
TZOFFSETFROM:+0100
TZOFFSETTO:+0200
TZNAME:CEST
DTSTART:20250330T010000
END:DAYLIGHT
BEGIN:STANDARD
TZOFFSETFROM:+0200
TZOFFSETTO:+0100
TZNAME:CET
DTSTART:20251026T010000
END:STANDARD
END:VTIMEZONE
BEGIN:VEVENT
DTSTART;TZID=Europe/Berlin:20241017T120000
DTEND;TZID=Europe/Berlin:20241017T160000
DTSTAMP:20260425T174822
CREATED:20240909T113647Z
LAST-MODIFIED:20240911T183937Z
UID:10000041-1729166400-1729180800@hwghv.de
SUMMARY:Halbtags-Busfahrt der Spaziergänger - Gruppe mit Schifffahrt in Hameln
DESCRIPTION:Halbtagesfahrt mit einer Schifffahrt in Hameln des   HWGHV Fuldatal am 17. 10. 2024 \nDie Spaziergänger – Gruppe lädt ganz herzlich zu einer Halbtagesfahrt am Donnerstag\, den 17. Okt. 2024 ein. \nWir fahren nach Hameln und werden dort eine Schifffahrt (Flotte Weser) mit Kaffee und Kuchen unternehmen. \nDie Abfahrt ist: 12.00 Uhr am Rathaus in Ihringshausen \nRückfahrt: ca. 16.00 Uhr \nKosten: Mitglieder pro Person 42\,00 €. \nGäste pro Person 46\,00 €. \nIm Preis incl. Fahrt mit dem Reisebus\, Schifffahrt und Kaffee und Kuchen. \nDen Betrag in Höhe von 42.00 € bzw. 46.00 € bitte bis zum 11. Okt. 2024 auf das Konto HWGHV Fuldatal e. V. –  \nIBAN: DE 30 5205 0353 0228 0008 11 bei der Kasseler Sparkasse unter dem Stichwort- Schifffahrt-Hameln überweisen. \nAnmeldungen sind bis Samstag\, den 12. Oktober 2024\, 18.00 Uhr\, bei                                                           Karin Endmann\, Tel. 0561 /81 81 55 oder Christa Groß\, Tel. 0561/81 97 93 \nGäste sind uns immer herzlich willkommen! \n„Frischauf“ die Wanderführerinnen
URL:https://hwghv.de/fuldatal/event/halbtags-busfahrt-der-spaziergaenger-in-den-harz/
LOCATION:Weserschifffahrt-Hameln
CATEGORIES:Hameln
ATTACH;FMTTYPE=image/jpeg:https://hwghv.de/fuldatal/wp-content/uploads/sites/19/2023/12/xAdobeStock_607718676.jpg
END:VEVENT
END:VCALENDAR